BEGIN:VCALENDAR
VERSION:2.0
PRODID:-//אנשי הים התיכון - ECPv6.9.0//NONSGML v1.0//EN
CALSCALE:GREGORIAN
METHOD:PUBLISH
X-ORIGINAL-URL:https://www.medpeople.org.il
X-WR-CALDESC:Events for אנשי הים התיכון
REFRESH-INTERVAL;VALUE=DURATION:PT1H
X-Robots-Tag:noindex
X-PUBLISHED-TTL:PT1H
BEGIN:VTIMEZONE
TZID:Asia/Jerusalem
BEGIN:DAYLIGHT
TZOFFSETFROM:+0200
TZOFFSETTO:+0300
TZNAME:IDT
DTSTART:20190329T000000
END:DAYLIGHT
BEGIN:STANDARD
TZOFFSETFROM:+0300
TZOFFSETTO:+0200
TZNAME:IST
DTSTART:20191026T230000
END:STANDARD
END:VTIMEZONE
BEGIN:VEVENT
DTSTART;TZID=Asia/Jerusalem:20190310T190000
DTEND;TZID=Asia/Jerusalem:20190310T190000
DTSTAMP:20260426T060122
CREATED:20190131T123216Z
LAST-MODIFIED:20190131T123216Z
UID:2974-1552244400-1552244400@www.medpeople.org.il
SUMMARY:פותחים סמסטר - מקדמים שמורות ימיות
DESCRIPTION:הים בסכנה. דיג\, קידוחי גז ונפט\, שפכים ואשפה מאיימים כל הזמן על החיים בו\, וזו העת לפעול. \nמה הן שמורות טבע ימיות ולמה יש כל כך מעט מהן בישראל? מהי חשיבות הים כמערכת אקולוגית? מה הן ההשלכות להרס הסביבה הימית? ומה אפשר לעשות?\nלקראת פתיחת הסמסטר\, בוא האביב ומצעד האקלים\, מוזמנות ומוזמנים מאוד להגיע\, לשתות בירה\, לשמוע ולהבין איך שמורות טבע ימיות יכולות להציל את הים שלנו ולסייע במניעת משבר האקלים. \nנתראה ביום ראשון\, ה-10.03 בשעה 19:00 בדרמה בר המגניב (רח' נחלת בנימין 52\, ת"א) \nהרשמה לאירוע בטופס—>https://goo.gl/forms/pZWlQmWtumC8yoqE2 \n\n\n 
URL:https://www.medpeople.org.il/event/%d7%a4%d7%95%d7%aa%d7%97%d7%99%d7%9d-%d7%a1%d7%9e%d7%a1%d7%98%d7%a8-%d7%9e%d7%a7%d7%93%d7%9e%d7%99%d7%9d-%d7%a9%d7%9e%d7%95%d7%a8%d7%95%d7%aa-%d7%99%d7%9e%d7%99%d7%95%d7%aa/
ATTACH;FMTTYPE=image/jpeg:https://www.medpeople.org.il/wp-content/uploads/2019/01/פותחים-סמסטר_Easy-Resize.com_.jpg
END:VEVENT
END:VCALENDAR