BEGIN:VCALENDAR
VERSION:2.0
PRODID:-//אנשי הים התיכון - ECPv6.9.0//NONSGML v1.0//EN
CALSCALE:GREGORIAN
METHOD:PUBLISH
X-ORIGINAL-URL:https://www.medpeople.org.il
X-WR-CALDESC:Events for אנשי הים התיכון
REFRESH-INTERVAL;VALUE=DURATION:PT1H
X-Robots-Tag:noindex
X-PUBLISHED-TTL:PT1H
BEGIN:VTIMEZONE
TZID:Asia/Jerusalem
BEGIN:DAYLIGHT
TZOFFSETFROM:+0200
TZOFFSETTO:+0300
TZNAME:IDT
DTSTART:20190329T000000
END:DAYLIGHT
BEGIN:STANDARD
TZOFFSETFROM:+0300
TZOFFSETTO:+0200
TZNAME:IST
DTSTART:20191026T230000
END:STANDARD
END:VTIMEZONE
BEGIN:VEVENT
DTSTART;TZID=Asia/Jerusalem:20190322T093000
DTEND;TZID=Asia/Jerusalem:20190322T140000
DTSTAMP:20260426T060123
CREATED:20190303T140240Z
LAST-MODIFIED:20190313T090707Z
UID:3055-1553247000-1553263200@www.medpeople.org.il
SUMMARY:הפלגה לשמורה הימית אבטח
DESCRIPTION:  \nלרגל היום העולמי למען החי בבר\, המוקדש לסביבה הימית\,  נחגוג איתכם את החיים בים בהפלגה בשמורת הטבע הימית אבטח \nבתוכנית \n9:30-10:00     התכנסות וכיבוד קל \n10:00-10:30   הרצאה על יונקים ימיים –  ד"ר אביעד שיינין \n10:30-12:30   הפלגה לשמורת הטבע הימית אבטח \n12:30-13:00   נסיעה לחוף ניצנים \n13:00-14:00   ניקוי חוף ניצנים (שמורה ימית אבטח). \nההפלגה תצא מהמרינה באשדוד. \nבסיור הימי נכיר את בעלי החיים הייחודים לשמורה\, נשמע הסברים על השמורה הימית\, ואולי גם נפגוש את להקת הדולפינים שמצויה באזור. בתום ההפלגה נערוך ניקיון חוף של שמורת אבטח.  \nהאירוע מאורגן על ידי "אנשי הים התיכון" בשיתוף מחמל"י\, ורשות הטבע והגנים \nפרטים נוספים – מייקל רפאל 054-5442776
URL:https://www.medpeople.org.il/event/%d7%94%d7%a4%d7%9c%d7%92%d7%94-%d7%9c%d7%a9%d7%9e%d7%95%d7%a8%d7%94-%d7%94%d7%99%d7%9e%d7%99%d7%aa-%d7%90%d7%91%d7%98%d7%97/
ATTACH;FMTTYPE=image/jpeg:https://www.medpeople.org.il/wp-content/uploads/2019/03/הפלגה-22.3_Easy-Resize.com_.jpg
END:VEVENT
END:VCALENDAR