BEGIN:VCALENDAR
VERSION:2.0
PRODID:-//אנשי הים התיכון - ECPv6.9.0//NONSGML v1.0//EN
CALSCALE:GREGORIAN
METHOD:PUBLISH
X-ORIGINAL-URL:https://www.medpeople.org.il
X-WR-CALDESC:Events for אנשי הים התיכון
REFRESH-INTERVAL;VALUE=DURATION:PT1H
X-Robots-Tag:noindex
X-PUBLISHED-TTL:PT1H
BEGIN:VTIMEZONE
TZID:Asia/Jerusalem
BEGIN:DAYLIGHT
TZOFFSETFROM:+0200
TZOFFSETTO:+0300
TZNAME:IDT
DTSTART:20190329T000000
END:DAYLIGHT
BEGIN:STANDARD
TZOFFSETFROM:+0300
TZOFFSETTO:+0200
TZNAME:IST
DTSTART:20191026T230000
END:STANDARD
END:VTIMEZONE
BEGIN:VEVENT
DTSTART;TZID=Asia/Jerusalem:20190329T100000
DTEND;TZID=Asia/Jerusalem:20190329T140000
DTSTAMP:20260426T072044
CREATED:20190131T123820Z
LAST-MODIFIED:20190319T092624Z
UID:2977-1553853600-1553868000@www.medpeople.org.il
SUMMARY:מצעד האקלים - מגמה ירוקה
DESCRIPTION:זהו המאבק הפוליטי והחברתי המשמעותי ביותר של המאה הזו /// ב-29.3 אנחנו נאבקים על החיים עצמם\, במזרח התיכון ובכלל! \nביום שישי ה- 29.3.2019 יתקיים מצעד האקלים\, האירוע הסביבתי הגדול ביותר בישראל המתקיים אחת לשנה. נתכנס בשעה 10:00 בבוקר מגן מאיר תל אביב\, וב-11:45 נצעד יחד לקריית הממשלה כדי להשמיע קול ברור מול כל ממשלה שתקום! \nשינוי האקלים קורה. זו עובדה. יש על כך קונצנזוס בקהילה המדעית. אנחנו בעיצומו של משבר אקלים והוא מסכן את כולנו. כולנו. ללא יוצא מן הכלל. \nהמזרח התיכון\, המקום שבו אנחנו חיות וחיים\, הוא אחד האזורים הראשונים לסבול מנזקי משבר האקלים ובצורה החמורה ביותר. כבר היום אנו חשות את ההשלכות באזורנו – הטמפרטורות הקיץ טיפסו לשיאים חדשים\, מקורות מים חשובים במדינות האזור נמצאים בתהליך של התייבשות\, אצלנו זוהי שנת הבצורה ה-6 ברצף (אבל מי סופר?).\nההערכות המדעיות מזהירות שאם לא תהיה גמילה מדלקים מזהמים והפסקת פליטות גזי החממה באופן מוחלט\, המזרח התיכון יהפוך לאזור קשה – עד בלתי אפשרי – למחייה. משבר מים קשה יפקוד את כל מי ומה שחי\, גלי חום יהפכו לחלק בלתי נפרד בחיים שלנו – התחזיות צופות שב-200 ימים בשנה הטמפרטורה הנמדדת תעמוד על 50 מעלות. דמיינו כביש שנמס מהחום\, פגיעה קשה בחקלאות ובביטחון התזונתי שלנו\, מיליוני פליטים מהמדינות השכונות שמגיעים לגבולות שלנו בגלל מצוקה קשה של מים ומזון. \nאנחנו נמצאות בנקודת זמן קריטית בהיסטוריה האנושית\, שמחייבת אותנו להתעורר ולפעול. אנחנו חייבות להיפטר מהדלקים המזהמים ולקדם מעבר מהיר וצודק לאנרגיות מתחדשות.\nזה אפשרי. זה לא חלום רחוק. ואנחנו לא לבד.\nתנועת האקלים העולמית היא אחת מהתנועות המוסריות הגדולות בהיסטוריה\, מיליוני אזרחים ואזרחיות ברחבי העולם יוצאים יום יום לרחובות עירם בקריאה ברורה לממשלות העולם – עד עכשיו דיברתם\, עכשיו תפעלו. כוחם של האזרחים והאזרחיות הוא מעל כל אדישות\, שאננות ופחדנות של מקבלי ההחלטות. זה או אנחנו או כלום. \nהצטרפו אלינו וביחד נעצור את משבר האקלים. \nכדי שלא תפספסו הודעות חשובות\, עדכונים\, הזמנות לפעולות ועוד\, פתחנו ערוץ וואטספ מיוחד לתנועה האזרחית לעצירת משבר האקלים ומצעד האקלים => https://chat.whatsapp.com/FSmMpabRgNZAgDlzdzkhXP\nמוזמנות להפיץ בקבוצות\, לשותפות ולחברות \nאנחנו זקוקים לך! הירשם/י עכשיו בטופס להתנדב בהפקה והכנות המצעד >> https://goo.gl/EqQRao \nהמצעד בשיתוף עם הרשות לאיכות סביבה וקיימות בעיריית תל אביב-יפו\, ויהיה אירוע השיא של חודש הקיימות\, חודש שלם של אירועי קיימות ברחבי העיר
URL:https://www.medpeople.org.il/event/%d7%9e%d7%a6%d7%a2%d7%93-%d7%94%d7%90%d7%a7%d7%9c%d7%99%d7%9d-%d7%9e%d7%92%d7%9e%d7%94-%d7%99%d7%a8%d7%95%d7%a7%d7%94/
ATTACH;FMTTYPE=image/jpeg:https://www.medpeople.org.il/wp-content/uploads/2019/01/מצעד-האקלים_Easy-Resize.com_.jpg
END:VEVENT
END:VCALENDAR