BEGIN:VCALENDAR
VERSION:2.0
PRODID:-//אנשי הים התיכון - ECPv6.9.0//NONSGML v1.0//EN
CALSCALE:GREGORIAN
METHOD:PUBLISH
X-WR-CALNAME:אנשי הים התיכון
X-ORIGINAL-URL:https://www.medpeople.org.il
X-WR-CALDESC:Events for אנשי הים התיכון
REFRESH-INTERVAL;VALUE=DURATION:PT1H
X-Robots-Tag:noindex
X-PUBLISHED-TTL:PT1H
BEGIN:VTIMEZONE
TZID:Asia/Jerusalem
BEGIN:DAYLIGHT
TZOFFSETFROM:+0200
TZOFFSETTO:+0300
TZNAME:IDT
DTSTART:20190329T000000
END:DAYLIGHT
BEGIN:STANDARD
TZOFFSETFROM:+0300
TZOFFSETTO:+0200
TZNAME:IST
DTSTART:20191026T230000
END:STANDARD
END:VTIMEZONE
BEGIN:VEVENT
DTSTART;TZID=Asia/Jerusalem:20190402T110000
DTEND;TZID=Asia/Jerusalem:20190402T123000
DTSTAMP:20260426T042825
CREATED:20190401T124544Z
LAST-MODIFIED:20190401T124544Z
UID:3182-1554202800-1554208200@www.medpeople.org.il
SUMMARY:ניקיון חוף ניצנים ביום המעשים הטובים
DESCRIPTION:אנשי הים התיכון\, ואנשי רשות הטבע והגנים מזמינים אתכם להצטרף לניקוי חוף ניצנים ביחד עם סטודנטים ממכללת סמי שמעון באשדוד.
URL:https://www.medpeople.org.il/event/%d7%a0%d7%99%d7%a7%d7%99%d7%95%d7%9f-%d7%97%d7%95%d7%a3-%d7%a0%d7%99%d7%a6%d7%a0%d7%99%d7%9d-%d7%91%d7%99%d7%95%d7%9d-%d7%94%d7%9e%d7%a2%d7%a9%d7%99%d7%9d-%d7%94%d7%98%d7%95%d7%91%d7%99%d7%9d/
LOCATION:חוף ניצנים
ATTACH;FMTTYPE=image/jpeg:https://www.medpeople.org.il/wp-content/uploads/2019/04/Facebook-Post_Easy-Resize.com_.jpg
END:VEVENT
END:VCALENDAR