BEGIN:VCALENDAR
VERSION:2.0
PRODID:-//אנשי הים התיכון - ECPv6.9.0//NONSGML v1.0//EN
CALSCALE:GREGORIAN
METHOD:PUBLISH
X-WR-CALNAME:אנשי הים התיכון
X-ORIGINAL-URL:https://www.medpeople.org.il
X-WR-CALDESC:Events for אנשי הים התיכון
REFRESH-INTERVAL;VALUE=DURATION:PT1H
X-Robots-Tag:noindex
X-PUBLISHED-TTL:PT1H
BEGIN:VTIMEZONE
TZID:Asia/Jerusalem
BEGIN:DAYLIGHT
TZOFFSETFROM:+0200
TZOFFSETTO:+0300
TZNAME:IDT
DTSTART:20190329T000000
END:DAYLIGHT
BEGIN:STANDARD
TZOFFSETFROM:+0300
TZOFFSETTO:+0200
TZNAME:IST
DTSTART:20191026T230000
END:STANDARD
END:VTIMEZONE
BEGIN:VEVENT
DTSTART;TZID=Asia/Jerusalem:20190409T100000
DTEND;TZID=Asia/Jerusalem:20190409T140000
DTSTAMP:20260426T042322
CREATED:20190325T101558Z
LAST-MODIFIED:20190325T102709Z
UID:3159-1554804000-1554818400@www.medpeople.org.il
SUMMARY:יום הכריש
DESCRIPTION:בואו להכיר מקרוב את נקודת המפגש בין כרישים לאנשים. פרויקט "כרישים בזרם" מזמין אתכם לקבל הצצה לעולמם המופלא של כרישי הים התיכון . בתוכנית: פעיליות הסבר בנושא הסביבה הימית\, הקרנת סרטוני כרישים מהשטח\, הפעלות בחול\, עמדת יצירה ירוקה\, ציורי פנים ימיים ועוד. \nההשתתפות ללא תשלום.
URL:https://www.medpeople.org.il/event/%d7%99%d7%95%d7%9d-%d7%94%d7%9b%d7%a8%d7%99%d7%a9/
LOCATION:פארק נחל חדרה\, חדרה
ATTACH;FMTTYPE=image/jpeg:https://www.medpeople.org.il/wp-content/uploads/2019/03/יום-הכריש_Easy-Resize.com_.jpg
END:VEVENT
END:VCALENDAR