BEGIN:VCALENDAR
VERSION:2.0
PRODID:-//אנשי הים התיכון - ECPv6.9.0//NONSGML v1.0//EN
CALSCALE:GREGORIAN
METHOD:PUBLISH
X-ORIGINAL-URL:https://www.medpeople.org.il
X-WR-CALDESC:Events for אנשי הים התיכון
REFRESH-INTERVAL;VALUE=DURATION:PT1H
X-Robots-Tag:noindex
X-PUBLISHED-TTL:PT1H
BEGIN:VTIMEZONE
TZID:Asia/Jerusalem
BEGIN:DAYLIGHT
TZOFFSETFROM:+0200
TZOFFSETTO:+0300
TZNAME:IDT
DTSTART:20190329T000000
END:DAYLIGHT
BEGIN:STANDARD
TZOFFSETFROM:+0300
TZOFFSETTO:+0200
TZNAME:IST
DTSTART:20191026T230000
END:STANDARD
END:VTIMEZONE
BEGIN:VEVENT
DTSTART;TZID=Asia/Jerusalem:20190531T150000
DTEND;TZID=Asia/Jerusalem:20190531T170000
DTSTAMP:20260426T013121
CREATED:20190512T102527Z
LAST-MODIFIED:20190512T104634Z
UID:3271-1559314800-1559322000@www.medpeople.org.il
SUMMARY:משפחות חוקרות למען קידום שמורות ימיות
DESCRIPTION:משפחות חוקרות למען קידום שמורות ימיות \nעיריית נתניה בשיתוף עם קהילת אנשי ים השרון\, מזמינים אתכם לקחת חלק בקבוצת המשפחות החוקרות למען קידום השמורה הימית "ים פולג". \nהצטרפו אלינו למפגש שני בסדרת "משפחות חוקרות את הים" בו נמשיך את התיעוד של היצורים הימיים בחוף הסלעי והחולי\, באמצעות סקרים\, זיהוי\, מגדירים וצילום תמונות \nיום שישי\, כ"ו אייר תשע"ט 31/5/19\, משעה 15:00 ועד 18:00 בחוף פולג. נפגשים ליד תחנת הצלה מס 11 \nהפעילות ללא עלות אך מספר המקומות מוגבל פרטים נוספים והרשמה אצל עינת צוקרמן טל בדוא"ל einat@ecoocean.comאו בנייד 052-3335511 \n*נא להצטייד ב: כובע\, מים\, קרם הגנה\, מצלמה\, סנדלים נוחים\, זכוכיות מגדלת וכלי כתיבה. \nמחכים לראותכם 😊 \n 
URL:https://www.medpeople.org.il/event/%d7%9e%d7%a9%d7%a4%d7%97%d7%95%d7%aa-%d7%97%d7%95%d7%a7%d7%a8%d7%95%d7%aa-%d7%90%d7%aa-%d7%94%d7%99%d7%9d/
ATTACH;FMTTYPE=image/jpeg:https://www.medpeople.org.il/wp-content/uploads/2019/05/אירוע_Easy-Resize.com_.jpg
END:VEVENT
END:VCALENDAR