BEGIN:VCALENDAR
VERSION:2.0
PRODID:-//אנשי הים התיכון - ECPv6.9.0//NONSGML v1.0//EN
CALSCALE:GREGORIAN
METHOD:PUBLISH
X-ORIGINAL-URL:https://www.medpeople.org.il
X-WR-CALDESC:Events for אנשי הים התיכון
REFRESH-INTERVAL;VALUE=DURATION:PT1H
X-Robots-Tag:noindex
X-PUBLISHED-TTL:PT1H
BEGIN:VTIMEZONE
TZID:Asia/Jerusalem
BEGIN:DAYLIGHT
TZOFFSETFROM:+0200
TZOFFSETTO:+0300
TZNAME:IDT
DTSTART:20190329T000000
END:DAYLIGHT
BEGIN:STANDARD
TZOFFSETFROM:+0300
TZOFFSETTO:+0200
TZNAME:IST
DTSTART:20191026T230000
END:STANDARD
END:VTIMEZONE
BEGIN:VEVENT
DTSTART;TZID=Asia/Jerusalem:20190607T100000
DTEND;TZID=Asia/Jerusalem:20190607T180000
DTSTAMP:20260426T013046
CREATED:20190512T103005Z
LAST-MODIFIED:20190520T165233Z
UID:3275-1559901600-1559930400@www.medpeople.org.il
SUMMARY:פסטיבל הים הבינלאומי חוף דור
DESCRIPTION:ביום שישי ה-7.6 נחגוג את יום האוקיינוסים הבינלאומי \nבפסטיבל הים בחוף דור  \nונקרא יחד להקמת שמורות טבע ימיות למען הים התיכון \n16:30-10:00 – תחנות הסברה והפעלה\, משחקים\, תחרות פיסול בחול\, הרצאות\, איפור גוף\, סיורים\, מנדלות על החוף\, בניית רפסודות ועוד הפתעות \n11:00– קבלת פנים למשט החותרים למען הקמת שמורות טבע ימיות \n18:00-16:30 – הופעות מוסיקה על שפת הים \nהפסטיבל יתקיים בטיילת חוף דור מדרום לבית הדייגים בית חאג'ג'. \nהפעילות מתאימה לכל המשפחה!
URL:https://www.medpeople.org.il/event/%d7%99%d7%95%d7%9d-%d7%94%d7%90%d7%95%d7%a7%d7%99%d7%99%d7%a0%d7%95%d7%a1%d7%99%d7%9d-%d7%94%d7%91%d7%99%d7%a0%d7%9c%d7%90%d7%95%d7%9e%d7%99/
ATTACH;FMTTYPE=image/jpeg:https://www.medpeople.org.il/wp-content/uploads/2019/05/מודעה-יום-האוקיינוסים_Easy-Resize.com_.jpg
END:VEVENT
END:VCALENDAR