BEGIN:VCALENDAR
VERSION:2.0
PRODID:-//אנשי הים התיכון - ECPv6.9.0//NONSGML v1.0//EN
CALSCALE:GREGORIAN
METHOD:PUBLISH
X-ORIGINAL-URL:https://www.medpeople.org.il
X-WR-CALDESC:Events for אנשי הים התיכון
REFRESH-INTERVAL;VALUE=DURATION:PT1H
X-Robots-Tag:noindex
X-PUBLISHED-TTL:PT1H
BEGIN:VTIMEZONE
TZID:Asia/Jerusalem
BEGIN:DAYLIGHT
TZOFFSETFROM:+0200
TZOFFSETTO:+0300
TZNAME:IDT
DTSTART:20190329T000000
END:DAYLIGHT
BEGIN:STANDARD
TZOFFSETFROM:+0300
TZOFFSETTO:+0200
TZNAME:IST
DTSTART:20191026T230000
END:STANDARD
END:VTIMEZONE
BEGIN:VEVENT
DTSTART;TZID=Asia/Jerusalem:20190615T153000
DTEND;TZID=Asia/Jerusalem:20190615T190000
DTSTAMP:20260426T013121
CREATED:20190610T112912Z
LAST-MODIFIED:20190612T064206Z
UID:3309-1560612600-1560625200@www.medpeople.org.il
SUMMARY:ים יבשה - שמירה על הסביבה
DESCRIPTION:הזמנה לתושבי הגליל המערבי!\nפותחים את עונת 2019 לשמירת הסביבה הימית\,בחוף בצת (עמוד 27) ביום שבת -15.6 החל מהשעה 15:30.\nבתוכנית: הדרכות לקהל הרחב בנושא שמירת הסביבה הימית והשמורה הימית ראש הנקרה -אכזיב.\n"ים-יבשה" – יצירה תנועתית במרחב של החול והים\, המוקדש לשימור הסביבה ומקורות המים. \nהאירוע ביוזמת קבוצת תושבים "שומרי החוף והים-גליל מערבי" וקהילות "אנשי הים התיכון"\, לקידום שמורות ימיות.\nמתאים לכל הגילאים\, ללא עלות ולטובת העלאת המודעות לשמירת הסביבה הימית . האירוע ללא כלים חד פעמיים. \nלוח זמנים\n————-\n1530- התכנסות\n1600- הדרכת פתיחה- הסביבה הימית בגליל המערבי ודיון פתוח של תושבי\n( יובל אלון).\n1645 – הדרכה מרכזית על השמורה הימית.\n1800-"ים יבשה" -פרוייקט תנועה\n1845-מעגל סיום\nבמסגרת הארוע יוצגו חומרי הסברה\, בשלל נושאים \,תערוכת צילומי חוף קטנה\,ויתקיימו מספר תחנות הפעלה בנושא זיהום ימי\,ומגוון ביולוגי. מצב המאבק בבצת ועוד.\nלוח הזמנים יעודכן בהמשך.\n*- במסגרת היום הבינלאומי לריקוד המיועד לשימור ואקולגיה של מקווי מים. מבוצע על ידי קבוצת תנועה תושבי האזור.\nלפרטים נוספים – יובל 0525578382\nבפייסבוק-"שומרי החוף והים -גליל מערבי" ו"קיימא בגליל המערבי" \nפרטים נוספים בעמוד הפייסבוק \n"yam-yabasha"-a formal opening of the swimming sesson at Betzet Beach orgenized by the "people of the mediterranean sea"' an NGO organization dedicated to the preservation of our sea. This year highlight event will be "Yam-yabasha"- a dance project happening in the space of the sea and sand. This dance is part of a world wide project-"Global water dances".On this date 15.6 in 170 places around the world people will be dancing besides bodies of water to heighten communaly awareness about water issues. Welcome
URL:https://www.medpeople.org.il/event/%d7%99%d7%9d-%d7%99%d7%91%d7%a9%d7%94-%d7%a9%d7%9e%d7%99%d7%a8%d7%94-%d7%a2%d7%9c-%d7%94%d7%a1%d7%91%d7%99%d7%91%d7%94/
ATTACH;FMTTYPE=image/jpeg:https://www.medpeople.org.il/wp-content/uploads/2019/06/62383581_10157291987282236_2146692978880544768_n_Easy-Resize.com_.jpg
END:VEVENT
END:VCALENDAR