BEGIN:VCALENDAR
VERSION:2.0
PRODID:-//אנשי הים התיכון - ECPv6.9.0//NONSGML v1.0//EN
CALSCALE:GREGORIAN
METHOD:PUBLISH
X-WR-CALNAME:אנשי הים התיכון
X-ORIGINAL-URL:https://www.medpeople.org.il
X-WR-CALDESC:Events for אנשי הים התיכון
REFRESH-INTERVAL;VALUE=DURATION:PT1H
X-Robots-Tag:noindex
X-PUBLISHED-TTL:PT1H
BEGIN:VTIMEZONE
TZID:Asia/Jerusalem
BEGIN:DAYLIGHT
TZOFFSETFROM:+0200
TZOFFSETTO:+0300
TZNAME:IDT
DTSTART:20190329T000000
END:DAYLIGHT
BEGIN:STANDARD
TZOFFSETFROM:+0300
TZOFFSETTO:+0200
TZNAME:IST
DTSTART:20191026T230000
END:STANDARD
END:VTIMEZONE
BEGIN:VEVENT
DTSTART;TZID=Asia/Jerusalem:20190622T180000
DTEND;TZID=Asia/Jerusalem:20190622T213000
DTSTAMP:20260426T013029
CREATED:20190610T123457Z
LAST-MODIFIED:20190612T113347Z
UID:3312-1561226400-1561239000@www.medpeople.org.il
SUMMARY:חוגגים שנה למעגל הגולשים
DESCRIPTION:לפני כשנה עשינו דבר מופלא!\nקמנו בבוקר יום שישי ללא גלים\, העמסנו את הגלשן על הרכב ויחד עם עוד כאלף גולשות וגולשים\, נסענו לחוף.בסדר מופתי\, בהבנה וסבלנות הצלחנו יחד לעשות את הבלתי יאומן. 992 גולשות וגולשים מכל הארץ ובכול הגילאים\, הצליחו ליצור מעגל גולשים מושלם ולאחוז ידיים במשך שלוש דקות ובכך לשבור את שיא העולם.. \nאת מה שחשנו במעגל\, ההתרגשות\, העוצמה\, האחדות ועוד רגשות רבים ששמורים רק לנו\, לא ניתן לתאר במילים. מעגל הגולשים השאיר בנו חותם שילוה אותנו לשארית חיינו ועל כך אנחנו מוקירים תודה. \nבקרוב נציין שנה לשבירת השיא ואנחנו מתכבדים וגאים להזמין אותך לקחת חלק באירוע שאנחנו עורכים לכל מי שלקח חלק במעגל ולמי שליווה אותנו מאז ועד היום. \nהארוע יתקיים ב:\nיום שבת\n22/6/2019\nים בר – הרצליה \nמה הלו"ז? \n18:00 פתיחת דלתות: נפגש על בירה והתפריט של הים בר ונחליף חוויות וזיכרונות מאותו הבוקר המופלא \n18:30 דוד ארבל בהופעת חימום \n19:30 להקת Angata בהופעת טכנו אפריקאי שתעיף אותנו לרקיע\nלשמיעה בלינק:\nhttps://youtu.be/AlqpsACWcW8 \n21:00 הגרלה.\nבין המוזמנים יוגרל מתנות בהחלט שווה לחכות \n*הארוע למוזמנים בלבד ובהרשמה מראש.\n*חברכם/ן מוזמנים/ות בשמחה על בסיס מקום פנוי ובכפוף להרשמה מראש. \nבאהבה והוקרה\nצוות מעגל הגולשים ⭕
URL:https://www.medpeople.org.il/event/%d7%97%d7%95%d7%92%d7%92%d7%99%d7%9d-%d7%a9%d7%a0%d7%94-%d7%9c%d7%9e%d7%a2%d7%92%d7%9c-%d7%94%d7%92%d7%95%d7%9c%d7%a9%d7%99%d7%9d/
ATTACH;FMTTYPE=image/jpeg:https://www.medpeople.org.il/wp-content/uploads/2019/06/שנה-למעגל-גולשים_Easy-Resize.com-1.jpg
END:VEVENT
END:VCALENDAR