BEGIN:VCALENDAR
VERSION:2.0
PRODID:-//אנשי הים התיכון - ECPv6.9.0//NONSGML v1.0//EN
CALSCALE:GREGORIAN
METHOD:PUBLISH
X-WR-CALNAME:אנשי הים התיכון
X-ORIGINAL-URL:https://www.medpeople.org.il
X-WR-CALDESC:Events for אנשי הים התיכון
REFRESH-INTERVAL;VALUE=DURATION:PT1H
X-Robots-Tag:noindex
X-PUBLISHED-TTL:PT1H
BEGIN:VTIMEZONE
TZID:Asia/Jerusalem
BEGIN:DAYLIGHT
TZOFFSETFROM:+0200
TZOFFSETTO:+0300
TZNAME:IDT
DTSTART:20190329T000000
END:DAYLIGHT
BEGIN:STANDARD
TZOFFSETFROM:+0300
TZOFFSETTO:+0200
TZNAME:IST
DTSTART:20191026T230000
END:STANDARD
END:VTIMEZONE
BEGIN:VEVENT
DTSTART;TZID=Asia/Jerusalem:20190708T190000
DTEND;TZID=Asia/Jerusalem:20190708T203000
DTSTAMP:20260425T235845
CREATED:20190702T123557Z
LAST-MODIFIED:20190702T123557Z
UID:3364-1562612400-1562617800@www.medpeople.org.il
SUMMARY:סוד הגן הנעלם - גני ספוגים עמוקים בים התיכון
DESCRIPTION:הרצאה של טל אידן בנושא גני ספוגים עמוקים אל מול חופי הים התיכון  בדגש על השמורה הימית המוצעת "ים פולג" \nבהרצאתה תחשוף בפנינו החוקרת טל אידן את גני הספוגים המרהיבים שמתקיימים במעמקים של השמורה הימית המוצעת "ים פולג"\, בה הספוגים יוצרים בית גידול ייחודי\, מקשרים בין גוף המים לקרקעית\, מהווים מקור מזון לבעלי חיים שונים ומהווים כר פורה למחקרים פורצי דרך ברפואת האדם. \nטל אידן- דוקטוראנטית באוניברסיטת תל אביב ממעבדתו של מיכה אילן\, מקיימת בימים אלה מחקר פעיל ופורה בנושא ספוגי הים בים התיכון בשיתוף עם רשות הטבע והגנים הלאומיים. עבודתה\, המוצגת בכנסי סביבה רבים\, תומכת בשמירה על המערכת הימית בכל רמותיה. \nבמחקרה מנסה אידן להבין מה הם התנאים שמאפשרים את קיום גני הספוגים\, האם גני הספוגים מהווים מקלט לבעלי חיים שלא מסוגלים יותר לחיות במים הרדודים בגלל שינויי אקלים והאם הפרטים בעומק וברדוד שייכים לאותן אוכלוסיות \nמיקום: מרינת הרצליה- רחוב הצדף 1
URL:https://www.medpeople.org.il/event/%d7%a1%d7%95%d7%93-%d7%94%d7%92%d7%9f-%d7%94%d7%a0%d7%a2%d7%9c%d7%9d-%d7%92%d7%a0%d7%99-%d7%a1%d7%a4%d7%95%d7%92%d7%99%d7%9d-%d7%a2%d7%9e%d7%95%d7%a7%d7%99%d7%9d-%d7%91%d7%99%d7%9d-%d7%94%d7%aa/
ATTACH;FMTTYPE=image/jpeg:https://www.medpeople.org.il/wp-content/uploads/2019/07/טל-אידן-גני-ספוגים-2_Easy-Resize.com_.jpg
END:VEVENT
END:VCALENDAR