BEGIN:VCALENDAR
VERSION:2.0
PRODID:-//אנשי הים התיכון - ECPv6.9.0//NONSGML v1.0//EN
CALSCALE:GREGORIAN
METHOD:PUBLISH
X-ORIGINAL-URL:https://www.medpeople.org.il
X-WR-CALDESC:Events for אנשי הים התיכון
REFRESH-INTERVAL;VALUE=DURATION:PT1H
X-Robots-Tag:noindex
X-PUBLISHED-TTL:PT1H
BEGIN:VTIMEZONE
TZID:Asia/Jerusalem
BEGIN:DAYLIGHT
TZOFFSETFROM:+0200
TZOFFSETTO:+0300
TZNAME:IDT
DTSTART:20190329T000000
END:DAYLIGHT
BEGIN:STANDARD
TZOFFSETFROM:+0300
TZOFFSETTO:+0200
TZNAME:IST
DTSTART:20191026T230000
END:STANDARD
END:VTIMEZONE
BEGIN:VEVENT
DTSTART;TZID=Asia/Jerusalem:20190730T193000
DTEND;TZID=Asia/Jerusalem:20190730T213000
DTSTAMP:20260425T223259
CREATED:20190715T132245Z
LAST-MODIFIED:20190715T132245Z
UID:3407-1564515000-1564522200@www.medpeople.org.il
SUMMARY:מדוזות- ממפגע למשאב: הרצאה של  ד'ר דור אדליסט
DESCRIPTION:תושבי הגליל המערבי\nהינכם מוזמנים להרצאה יחודית על מדוזות במרכז צעירים מטה אשר\,אכזיב.\nנושא המדוזות בחופי ישראל הוא סוגיה חמה\, לעיתים צורבת\, במיוחד בחודשי הקיץ שבהם נחילים גדולים של מדוזות מצטרפים לשלל ציבור המתרחצים ומתחרים על מיקום טוב בחוף.\,אבל עבור אנשי המדע והסביבה הימית כמו ד'ר דור אדליסט\, המרצה\, זוהי חגיגה אמיתית כל השנה.\nמטרת ההרצאה לשתף את הציבור במידע על מגוון המדוזות ובמסגרת "מדע אזרחי" לאפשר דיווח על מיקום וסוג מדוזות וזאת באמצעות אפילקציה יחודית חדשה. כאשר המתרחצים נהנים ממידע מעודכן ועכשווי והחוקרים ממידע מהימן ורלוונטי שעוזר ללמוד עוד על היצורים המופלאים הללו.\nההרצאה מתאימה לקהל הרחב והינה ללא עלות. שיתוף פעולה יחודי וראשוני בין קבוצת "שומרי החוף והים -גליל מערבי" לחוקרי המדוזות ולמרכז צעירים מטה אשר. לפרטים- יובל 0525578382. \n 
URL:https://www.medpeople.org.il/event/%d7%9e%d7%93%d7%95%d7%96%d7%95%d7%aa-%d7%9e%d7%9e%d7%a4%d7%92%d7%a2-%d7%9c%d7%9e%d7%a9%d7%90%d7%91-%d7%94%d7%a8%d7%a6%d7%90%d7%94-%d7%a9%d7%9c-%d7%93%d7%a8-%d7%93%d7%95%d7%a8-%d7%90%d7%93%d7%9c/
ATTACH;FMTTYPE=image/jpeg:https://www.medpeople.org.il/wp-content/uploads/2019/07/8ff4f20f-5c8e-4ba3-bf3b-002115e2bb1e_Easy-Resize.com_.jpg
END:VEVENT
END:VCALENDAR