BEGIN:VCALENDAR
VERSION:2.0
PRODID:-//אנשי הים התיכון - ECPv6.9.0//NONSGML v1.0//EN
CALSCALE:GREGORIAN
METHOD:PUBLISH
X-WR-CALNAME:אנשי הים התיכון
X-ORIGINAL-URL:https://www.medpeople.org.il
X-WR-CALDESC:Events for אנשי הים התיכון
REFRESH-INTERVAL;VALUE=DURATION:PT1H
X-Robots-Tag:noindex
X-PUBLISHED-TTL:PT1H
BEGIN:VTIMEZONE
TZID:Asia/Jerusalem
BEGIN:DAYLIGHT
TZOFFSETFROM:+0200
TZOFFSETTO:+0300
TZNAME:IDT
DTSTART:20190329T000000
END:DAYLIGHT
BEGIN:STANDARD
TZOFFSETFROM:+0300
TZOFFSETTO:+0200
TZNAME:IST
DTSTART:20191026T230000
END:STANDARD
END:VTIMEZONE
BEGIN:VEVENT
DTSTART;TZID=Asia/Jerusalem:20190803T080000
DTEND;TZID=Asia/Jerusalem:20190803T110000
DTSTAMP:20260425T223143
CREATED:20190724T111808Z
LAST-MODIFIED:20190724T111808Z
UID:3455-1564819200-1564830000@www.medpeople.org.il
SUMMARY:ניקוי חוף זיקים
DESCRIPTION:ניקוי חוף זיקים. באירגון  צוות מעורבות קהילתית קיבוץ גברעם\,רשות הטבע והגנים ואנשי הים התיכון. \nנשמח לראותכם.
URL:https://www.medpeople.org.il/event/%d7%a0%d7%99%d7%a7%d7%95%d7%99-%d7%97%d7%95%d7%a3-%d7%96%d7%99%d7%a7%d7%99%d7%9d/
ATTACH;FMTTYPE=image/jpeg:https://www.medpeople.org.il/wp-content/uploads/2019/07/אירוע-בזיקים_Easy-Resize.com_.jpg
END:VEVENT
END:VCALENDAR