BEGIN:VCALENDAR
VERSION:2.0
PRODID:-//אנשי הים התיכון - ECPv6.9.0//NONSGML v1.0//EN
CALSCALE:GREGORIAN
METHOD:PUBLISH
X-ORIGINAL-URL:https://www.medpeople.org.il
X-WR-CALDESC:Events for אנשי הים התיכון
REFRESH-INTERVAL;VALUE=DURATION:PT1H
X-Robots-Tag:noindex
X-PUBLISHED-TTL:PT1H
BEGIN:VTIMEZONE
TZID:Asia/Jerusalem
BEGIN:DAYLIGHT
TZOFFSETFROM:+0200
TZOFFSETTO:+0300
TZNAME:IDT
DTSTART:20190329T000000
END:DAYLIGHT
BEGIN:STANDARD
TZOFFSETFROM:+0300
TZOFFSETTO:+0200
TZNAME:IST
DTSTART:20191026T230000
END:STANDARD
END:VTIMEZONE
BEGIN:VEVENT
DTSTART;TZID=Asia/Jerusalem:20190822T110000
DTEND;TZID=Asia/Jerusalem:20190822T123000
DTSTAMP:20260425T223301
CREATED:20190805T064234Z
LAST-MODIFIED:20190805T064350Z
UID:3494-1566471600-1566477000@www.medpeople.org.il
SUMMARY:עולמה של בת הים וחברים - על צבי ים ועוד
DESCRIPTION:פעילות לילדים. סיפורה וחוויותיה של טל רז – בת הים מריף בת-גלים\, הפוגשת יום יום את יצורי הים המופלאים. נצלול יחד לעולם שמתחת למים ונחווה את עולם הים דרך אורח חייהם של צבי הים בריף בת-גלים. נגלה את האוצרות שמתחת למים בחוף החיפאי הסמוך למוזיאון\, נלמד על אורח חייהם של צבי הים וכיצד נוכל לעזור ולשמור עליהם ועל סביבת מחייתם הימית מנזקי האדם\, ונשוחח על חשיבותן של שמורות ימיות. לאחר מכן\, ניצור בסדנה צבי ים חמודים בטכניקת האוריגאמי – קיפולי נייר. \nבמוזיאון הימי הלאומי בחיפה. פרטים נוספים
URL:https://www.medpeople.org.il/event/%d7%a2%d7%95%d7%9c%d7%9e%d7%94-%d7%a9%d7%9c-%d7%91%d7%aa-%d7%94%d7%99%d7%9d-%d7%95%d7%97%d7%91%d7%a8%d7%99%d7%9d-%d7%a2%d7%9c-%d7%a6%d7%91%d7%99-%d7%99%d7%9d-%d7%95%d7%a2%d7%95%d7%93/
ATTACH;FMTTYPE=image/jpeg:https://www.medpeople.org.il/wp-content/uploads/2019/08/עולמה-של-בת-הים-הקטנה_Easy-Resize.com_.jpg
END:VEVENT
BEGIN:VEVENT
DTSTART;TZID=Asia/Jerusalem:20190822T160000
DTEND;TZID=Asia/Jerusalem:20190822T193000
DTSTAMP:20260425T223301
CREATED:20190808T103822Z
LAST-MODIFIED:20190808T103822Z
UID:3512-1566489600-1566502200@www.medpeople.org.il
SUMMARY:מתחם החיים בים - חוף ניצנים
DESCRIPTION:קהילת הדרום של אנשי הים-התיכון בשיתוף בית-ספר שדה שקמים\, רשות הטבע והגנים ומחמל"י מזמינים אותם למתחם החיים בים\, להכיר את היצורים החיים הנמצאים מתחת למים\, בים-התיכון כמובן =) \nהמתחם הוא חלק מאירוע גדול שמקיים המרכז הקהילתי של חוף אשקלון \, יריד חוגים וחגיגת קיץ \nמה מצפה לנו במתחם 'החיים בים'?\nבאו להכיר את בעלי-החיים המיוחדים החיים בים-התיכון שלנו: הדולפינים\, צבי-הים\, המדוזות\, חסרי-החוליות ועוד רבים אחרים…\n*נלמד על החיים המופלאים של הדולפינים והלוויתנים – כיצד הם מתקשרים\, ניזונים ואיפה ואיך אפשר לראות דולפינים אצלנו בישראל? בהנחיית ד"ר אביעד שיינין מנהל מרכז הדולפין והים באשדוד.\n* גלגל מזל נושא פרסים בנושא סיפורם המופלא והמרתק של צבי-הים ופעילות רשות הטבע והגנים לשימור מין זה.\n* נצא לסיור עקבות- צדפים\, סרטנים וסיפורו של גרגיר חול – סיור מודרך יצא כל חצי שעה ממתחם 'החיים בים'.\n*גלית בלכר מאוניברסיטת בן גוריון חובבת וחוקרת חסרי חוליות\, תפגיש אותנו עם שושנות-הים\, האלמוגים\, תולעי-ים ורכיכות שונות.\n*בואו לשמוע על 'שמורות ימיות' מ'אנשי הים התיכון'. מה זה אומר ולמה חשוב כל כך לקדם נושא זה? =)\n*מדוזות? מה אנחנו באמת יודעים אליהן? 'מדוזות בע"מ'\, מיזם של האגודה הישראלית לאקולוגיה נשמע מי הן המדוזות ואיך אפשר לדווח כאשר פוגשים בהן =) \nהאירוע כולל – הופעת קרקס\, הרקדה\, דוכני מזון\, סדנאות יצירה ודוכני חוגים של המרכז הקהילתי חוף אשקלון. \nמתי כל זה קורה?\nביום חמישי ה-22 באוגוסט משעה 16:00 עד 19:30.\nמתחם 'החיים בים' בצמוד לסוכת המציל שמדרום לבר.\nבמקום מתחם חנייה גדול – להגעה רשמו חוף ניצנים בוואיז
URL:https://www.medpeople.org.il/event/%d7%9e%d7%aa%d7%97%d7%9d-%d7%94%d7%97%d7%99%d7%99%d7%9d-%d7%91%d7%99%d7%9d-%d7%97%d7%95%d7%a3-%d7%a0%d7%99%d7%a6%d7%a0%d7%99%d7%9d/
ATTACH;FMTTYPE=image/jpeg:https://www.medpeople.org.il/wp-content/uploads/2019/08/פוסטר-לאירוע_Easy-Resize.com_.jpg
END:VEVENT
END:VCALENDAR