BEGIN:VCALENDAR
VERSION:2.0
PRODID:-//אנשי הים התיכון - ECPv6.9.0//NONSGML v1.0//EN
CALSCALE:GREGORIAN
METHOD:PUBLISH
X-ORIGINAL-URL:https://www.medpeople.org.il
X-WR-CALDESC:Events for אנשי הים התיכון
REFRESH-INTERVAL;VALUE=DURATION:PT1H
X-Robots-Tag:noindex
X-PUBLISHED-TTL:PT1H
BEGIN:VTIMEZONE
TZID:Asia/Jerusalem
BEGIN:DAYLIGHT
TZOFFSETFROM:+0200
TZOFFSETTO:+0300
TZNAME:IDT
DTSTART:20190329T000000
END:DAYLIGHT
BEGIN:STANDARD
TZOFFSETFROM:+0300
TZOFFSETTO:+0200
TZNAME:IST
DTSTART:20191026T230000
END:STANDARD
END:VTIMEZONE
BEGIN:VEVENT
DTSTART;TZID=Asia/Jerusalem:20190823T133000
DTEND;TZID=Asia/Jerusalem:20190823T183000
DTSTAMP:20260426T000030
CREATED:20190812T063606Z
LAST-MODIFIED:20200819T181337Z
UID:3518-1566567000-1566585000@www.medpeople.org.il
SUMMARY:זורמים לים נקי - שומרים על חופי הגליל המערבי
DESCRIPTION:
URL:https://www.medpeople.org.il/event/%d7%96%d7%95%d7%a8%d7%9e%d7%99%d7%9d-%d7%9c%d7%99%d7%9d-%d7%a0%d7%a7%d7%99-%d7%a9%d7%95%d7%9e%d7%a8%d7%99%d7%9d-%d7%a2%d7%9c-%d7%97%d7%95%d7%a4%d7%99-%d7%94%d7%92%d7%9c%d7%99%d7%9c-%d7%94%d7%9e/
ATTACH;FMTTYPE=image/jpeg:https://www.medpeople.org.il/wp-content/uploads/2019/08/WhatsApp-Image-2019-08-11-at-21.49.36_Easy-Resize.com_.jpg
END:VEVENT
END:VCALENDAR