BEGIN:VCALENDAR
VERSION:2.0
PRODID:-//אנשי הים התיכון - ECPv6.9.0//NONSGML v1.0//EN
CALSCALE:GREGORIAN
METHOD:PUBLISH
X-ORIGINAL-URL:https://www.medpeople.org.il
X-WR-CALDESC:Events for אנשי הים התיכון
REFRESH-INTERVAL;VALUE=DURATION:PT1H
X-Robots-Tag:noindex
X-PUBLISHED-TTL:PT1H
BEGIN:VTIMEZONE
TZID:Asia/Jerusalem
BEGIN:DAYLIGHT
TZOFFSETFROM:+0200
TZOFFSETTO:+0300
TZNAME:IDT
DTSTART:20190329T000000
END:DAYLIGHT
BEGIN:STANDARD
TZOFFSETFROM:+0300
TZOFFSETTO:+0200
TZNAME:IST
DTSTART:20191026T230000
END:STANDARD
END:VTIMEZONE
BEGIN:VEVENT
DTSTART;TZID=Asia/Jerusalem:20191108T080000
DTEND;TZID=Asia/Jerusalem:20191108T120000
DTSTAMP:20260426T030442
CREATED:20191103T154354Z
LAST-MODIFIED:20191103T154354Z
UID:3672-1573200000-1573214400@www.medpeople.org.il
SUMMARY:מפגש 1: קבוצת ניטור החי והצומח בטבלאות הגידוד
DESCRIPTION:
URL:https://www.medpeople.org.il/event/%d7%9e%d7%a4%d7%92%d7%a9-1-%d7%a7%d7%91%d7%95%d7%a6%d7%aa-%d7%a0%d7%99%d7%98%d7%95%d7%a8-%d7%94%d7%97%d7%99-%d7%95%d7%94%d7%a6%d7%95%d7%9e%d7%97-%d7%91%d7%98%d7%91%d7%9c%d7%90%d7%95%d7%aa-%d7%94/
ATTACH;FMTTYPE=image/jpeg:https://www.medpeople.org.il/wp-content/uploads/2019/11/קבוצת-ניטור-החי-והצומח_Easy-Resize.com_.jpg
END:VEVENT
END:VCALENDAR