BEGIN:VCALENDAR
VERSION:2.0
PRODID:-//אנשי הים התיכון - ECPv6.9.0//NONSGML v1.0//EN
CALSCALE:GREGORIAN
METHOD:PUBLISH
X-ORIGINAL-URL:https://www.medpeople.org.il
X-WR-CALDESC:Events for אנשי הים התיכון
REFRESH-INTERVAL;VALUE=DURATION:PT1H
X-Robots-Tag:noindex
X-PUBLISHED-TTL:PT1H
BEGIN:VTIMEZONE
TZID:Asia/Jerusalem
BEGIN:DAYLIGHT
TZOFFSETFROM:+0200
TZOFFSETTO:+0300
TZNAME:IDT
DTSTART:20190329T000000
END:DAYLIGHT
BEGIN:STANDARD
TZOFFSETFROM:+0300
TZOFFSETTO:+0200
TZNAME:IST
DTSTART:20191026T230000
END:STANDARD
END:VTIMEZONE
BEGIN:VEVENT
DTSTART;TZID=Asia/Jerusalem:20191124T083000
DTEND;TZID=Asia/Jerusalem:20191124T173000
DTSTAMP:20260426T030805
CREATED:20190807T114641Z
LAST-MODIFIED:20190807T114641Z
UID:3508-1574584200-1574616600@www.medpeople.org.il
SUMMARY:ועידת האקלים הישראלית ה-4
DESCRIPTION:ועידת האקלים הישראלית מתקיימת זו השנה הרביעית ברצף\, מאז הסכם פריז לאקלים בשנת 2015 עליו חתומה גם ישראל. בדוח האחרון של הפאנל הבין-ממשלתי לשינוי האקלים קבעה קהילת המדע כי על המדינות החתומות להיערך לכך עד שנת 2020 וכי נותר לנו חלון הזדמנויות של פחות מעשור כדי להימנע משואה אקלימית. תנועות אזרחיות ברחבי העולם החלו לדרוש ממנהיגי מדינותיהן להכריז על מצב חירום אקלימי ולנקוט בצעדים המתחייבים כדי להבטיח את המשך שגשוג החיים על פני כדור הארץ. ועידת האקלים מתקיימת השנה בצל תחושת הדחיפות שנוצרה לפעולה ובהכרה שעלינו לדרוש מהדרג הפוליטי בישראל לנקוט בצעדים יותר להבטיח חוסן ושגשוג מול האתגרים העצומים משבר האקלים מציב בפתחנו. \nהועידה היא הזדמנות להשפיע על תודעה ציבורית מתרחבת בענין אקלים בישראל ולתבוע שממשלת ישראל תאמץ יעדים שאפתניים לקראת הוועידה העולמית ב-2020. משבר אקלים עתיד להשפיע על כל תחומי החיים ועל מגוון אוכלוסיות וקבוצות – זה הזמן לחזק את שיתוף הפעולה בין הארגונים החברתיים והסביבתיים מכל קשת החברה הישראלית ולהמשיך ליצור תנועת אקלים גדולה ודומיננטית. \nמוזיאון תל  אביב לאמנולת
URL:https://www.medpeople.org.il/event/%d7%95%d7%a2%d7%99%d7%93%d7%aa-%d7%94%d7%90%d7%a7%d7%9c%d7%99%d7%9d-%d7%94%d7%99%d7%a9%d7%a8%d7%90%d7%9c%d7%99%d7%aa-%d7%94-4/
LOCATION:מוזיאון תל אביב לאמנות\, שדרות שאול המלך 27\, תל אביב\, Israel
ATTACH;FMTTYPE=image/jpeg:https://www.medpeople.org.il/wp-content/uploads/2019/08/ועידת-האקלים-הישראלית_Easy-Resize.com_.jpg
END:VEVENT
END:VCALENDAR