BEGIN:VCALENDAR
VERSION:2.0
PRODID:-//אנשי הים התיכון - ECPv6.9.0//NONSGML v1.0//EN
CALSCALE:GREGORIAN
METHOD:PUBLISH
X-ORIGINAL-URL:https://www.medpeople.org.il
X-WR-CALDESC:Events for אנשי הים התיכון
REFRESH-INTERVAL;VALUE=DURATION:PT1H
X-Robots-Tag:noindex
X-PUBLISHED-TTL:PT1H
BEGIN:VTIMEZONE
TZID:Asia/Jerusalem
BEGIN:DAYLIGHT
TZOFFSETFROM:+0200
TZOFFSETTO:+0300
TZNAME:IDT
DTSTART:20190329T000000
END:DAYLIGHT
BEGIN:STANDARD
TZOFFSETFROM:+0300
TZOFFSETTO:+0200
TZNAME:IST
DTSTART:20191026T230000
END:STANDARD
END:VTIMEZONE
BEGIN:VEVENT
DTSTART;TZID=Asia/Jerusalem:20191129T110000
DTEND;TZID=Asia/Jerusalem:20191129T150000
DTSTAMP:20260426T030442
CREATED:20191118T190219Z
LAST-MODIFIED:20191118T190339Z
UID:3748-1575025200-1575039600@www.medpeople.org.il
SUMMARY:מבצע ניקיון חופית - ניצנים
DESCRIPTION:יום שישי ה-29.11.19 נפגשים ליום ניקיון שכולו למען הים \n⏰ מתי? ב- 11:00 ועד 15:00\,\n📍איפה? ניפגש בחוף חופית (החוף הצפוני ביותר באשקלון)\nבחלק הצמוד לגדר השמורה. \nנקיים הדרכות חוף למעוניינים.\nיש שקיות\, כפפות ונשנושים. \n******\nכולם מוזמנים!\n******\nבבקשה דאגו להביא כובע ומים.\nנשמח לעזרה בשיתופים (: \nלשאלות והכוונה –\nשני אנשי הים התיכון- 050-8335796\nאסי שומרי הים- 050-9848433
URL:https://www.medpeople.org.il/event/%d7%9e%d7%91%d7%a6%d7%a2-%d7%a0%d7%99%d7%a7%d7%99%d7%95%d7%9f-%d7%97%d7%95%d7%a4%d7%99%d7%aa-%d7%a0%d7%99%d7%a6%d7%a0%d7%99%d7%9d/
ATTACH;FMTTYPE=image/jpeg:https://www.medpeople.org.il/wp-content/uploads/2019/11/מבצע-ניקיון-בחופית-ניצנים_Easy-Resize.com_.jpg
END:VEVENT
END:VCALENDAR