BEGIN:VCALENDAR
VERSION:2.0
PRODID:-//אנשי הים התיכון - ECPv6.9.0//NONSGML v1.0//EN
CALSCALE:GREGORIAN
METHOD:PUBLISH
X-ORIGINAL-URL:https://www.medpeople.org.il
X-WR-CALDESC:Events for אנשי הים התיכון
REFRESH-INTERVAL;VALUE=DURATION:PT1H
X-Robots-Tag:noindex
X-PUBLISHED-TTL:PT1H
BEGIN:VTIMEZONE
TZID:Asia/Jerusalem
BEGIN:DAYLIGHT
TZOFFSETFROM:+0200
TZOFFSETTO:+0300
TZNAME:IDT
DTSTART:20220325T000000
END:DAYLIGHT
BEGIN:STANDARD
TZOFFSETFROM:+0300
TZOFFSETTO:+0200
TZNAME:IST
DTSTART:20221029T230000
END:STANDARD
END:VTIMEZONE
BEGIN:VEVENT
DTSTART;TZID=Asia/Jerusalem:20220325T100000
DTEND;TZID=Asia/Jerusalem:20220325T140000
DTSTAMP:20260426T073313
CREATED:20220314T130444Z
LAST-MODIFIED:20220314T130444Z
UID:6231-1648202400-1648216800@www.medpeople.org.il
SUMMARY:מחאת האקלים הבינלאומי - צעדה
DESCRIPTION:הצטרפו להפגנת ענק של מיליונים מכל רחבי העולם: מחאת האקלים!\nביום שישי -25.3 בשעה 10:00: בטיילת תל אביב.\nמשבר האקלים מאיים ומשפיע ישירות גם על הים\, וכבר רואים את התוצאות ההרסניות.\nהגיע הזמן לפעול ביתר תקיפות כדי לעצור ולהציל את העולם והים! חייבים חוק שיחייב פעולה נגד המשבר – הכוח נמצא בידיים שלנו!\nנקודת מפגש: יום שישי 25.3 בשעה 09:30 טיילת פרישמן פינת הרברט סמואל.\nפרטים נוספים אצל רכזי אנשי הים התיכון\, או בהודעה בעמוד הפייסבוק של אנשי הים התיכון.
URL:https://www.medpeople.org.il/event/%d7%9e%d7%97%d7%90%d7%aa-%d7%94%d7%90%d7%a7%d7%9c%d7%99%d7%9d-%d7%94%d7%91%d7%99%d7%a0%d7%9c%d7%90%d7%95%d7%9e%d7%99-%d7%a6%d7%a2%d7%93%d7%94/
ATTACH;FMTTYPE=image/jpeg:https://www.medpeople.org.il/wp-content/uploads/2022/03/מחאת-האקלים.jpg
END:VEVENT
BEGIN:VEVENT
DTSTART;TZID=Asia/Jerusalem:20220401T100000
DTEND;TZID=Asia/Jerusalem:20220401T140000
DTSTAMP:20260426T073313
CREATED:20220331T091125Z
LAST-MODIFIED:20220331T091125Z
UID:6253-1648807200-1648821600@www.medpeople.org.il
SUMMARY:ניקוי חוף זיקים
DESCRIPTION:1/4 יום שישי\, שבוע המעשים הטובים –\nהתנדבות מצילה חיים\nניקיון בחוף זיקים (הצלת חיות הים והיבשה) וחוף נקי כי זה הבית שלנו\,\nוניידת תרומת דם ( תרומת דם אחת\, מצילה שלושה אנשים)\nבין השעות 10:00-14:00\nמוזמנים להצטרף ולהפיץ טוב\, באווירה קהילתית ומשפחתית.
URL:https://www.medpeople.org.il/event/%d7%a0%d7%99%d7%a7%d7%95%d7%99-%d7%97%d7%95%d7%a3-%d7%96%d7%99%d7%a7%d7%99%d7%9d-2/
ATTACH;FMTTYPE=image/jpeg:https://www.medpeople.org.il/wp-content/uploads/2022/03/ניקיון-בחוף-זיקים.jpeg
END:VEVENT
BEGIN:VEVENT
DTSTART;TZID=Asia/Jerusalem:20220406T190000
DTEND;TZID=Asia/Jerusalem:20220406T220000
DTSTAMP:20260426T073313
CREATED:20220331T083338Z
LAST-MODIFIED:20220331T083338Z
UID:6250-1649271600-1649282400@www.medpeople.org.il
SUMMARY:ערב חשיפה ופעולה - נגד דיג מכמורתנים
DESCRIPTION:מכמורות עדיין קיימות בישראל והן מחסלות את הים – הורגות דגים\, צבים\, חתולי ים וכל יצור שנכלא בדרכן וממוטטות את המערכות האקולוגיות. \nממש בימים אלו מתנהל קמפיין מצד קואליציית ארגונים סביבתיים שמנסה להוציא את המכמורות מהמים\, ולהציל את החיים בים התיכון! \nאנחנו מזמינים אתכם.ן ביום רביעי ה6.4 בין השעות 19:00-22:00 בשושנה בר בשושנת העמקים לערב חשיפה וקריאה לפעולה!\nלאורך הערב נצפה סרט דוקו בנושא ונשמע דוברים ומומחים בתחום שיעזרו לכולנו להבין על מה מאיים דייג המכמורות בישראל ואיך האיום הזה רלוונטי גם אלינו שחיים ביבשה. \nמספר המקומות מוגבל אז מהרו להירשם בקישור 👈🏽https://forms.gle/jjbf9pbHR2M8uZ678
URL:https://www.medpeople.org.il/event/%d7%a2%d7%a8%d7%91-%d7%97%d7%a9%d7%99%d7%a4%d7%94-%d7%95%d7%a4%d7%a2%d7%95%d7%9c%d7%94-%d7%a0%d7%92%d7%93-%d7%93%d7%99%d7%92-%d7%9e%d7%9b%d7%9e%d7%95%d7%a8%d7%aa%d7%a0%d7%99%d7%9d/
ATTACH;FMTTYPE=image/jpeg:https://www.medpeople.org.il/wp-content/uploads/2022/03/רוצים-לעזור-להציל-את-הים.jpeg
END:VEVENT
BEGIN:VEVENT
DTSTART;TZID=Asia/Jerusalem:20220417T080000
DTEND;TZID=Asia/Jerusalem:20220420T170000
DTSTAMP:20260426T073313
CREATED:20220411T065827Z
LAST-MODIFIED:20220411T065827Z
UID:6257-1650182400-1650474000@www.medpeople.org.il
SUMMARY:סיורי פסח בשמורת שקמונה
DESCRIPTION:סיורי פסח בשמורת שקמונה🌸🌷☘️\nכל יום בחול המועד! 17-20/4 . \nשקמונה מעל ומתחת למים 17-20/4 🏖🐳🐟🐠\nלהכיר את ה"כרמל הכחול"\, בסיור פריחה\, טבע ומורשת בשמורת שקמונה היפהפייה ושכונת עין הים. לפרטים והרשמה: https://eventbuzz.co.il/lp/event/haifashik4 \nעלות משתתף: 25 ש"ח (מגיל 3 ומעלה).
URL:https://www.medpeople.org.il/event/%d7%a1%d7%99%d7%95%d7%a8%d7%99-%d7%a4%d7%a1%d7%97-%d7%91%d7%a9%d7%9e%d7%95%d7%a8%d7%aa-%d7%a9%d7%a7%d7%9e%d7%95%d7%a0%d7%94/
ATTACH;FMTTYPE=image/jpeg:https://www.medpeople.org.il/wp-content/uploads/2022/04/סיור-בשקמונה.jpeg
END:VEVENT
BEGIN:VEVENT
DTSTART;TZID=Asia/Jerusalem:20220509T183000
DTEND;TZID=Asia/Jerusalem:20220509T210000
DTSTAMP:20260426T073313
CREATED:20220429T083200Z
LAST-MODIFIED:20220429T083200Z
UID:6281-1652121000-1652130000@www.medpeople.org.il
SUMMARY:קהילה מקבלת שמורה - מוזיאון ימי חיפה
DESCRIPTION:פתיחת ועדת שמורה ימית ראש הכרמל יום ב'\, 9/5/22 18:30-20:30 המוזיאון הימי הלאומי (אלנבי 198 חיפה) \n18:30 – קבלת פנים \n19:00 – ברכות \n19:10 – חזון השמורות הימיות והכרות עם שמורת ים ראש כרמל. ד"ר רותי יהל\, רשות הטבע והגנים. 19:30 – חשיבות שיתוף הקהילה באכיפה\, ומשמעות השמורה למשתמשי ים. אייל מילר\, רשות הטבע והגנים. \n19:50 – קהילה מקבלת שמורה – מקרה בוחן שמורת אכזיב. אורן אגמון- החברה להגנת הטבע\, ויובל אלון\, אנשי הים התיכון \n. 20:10 – נשים מחוללות שינוי סביבתי. רן לוי יממורי. \nהרשמה בלינק : https://bit.ly/38jLZdk
URL:https://www.medpeople.org.il/event/%d7%a7%d7%94%d7%99%d7%9c%d7%94-%d7%9e%d7%a7%d7%91%d7%9c%d7%aa-%d7%a9%d7%9e%d7%95%d7%a8%d7%94-%d7%9e%d7%95%d7%96%d7%99%d7%90%d7%95%d7%9f-%d7%99%d7%9e%d7%99-%d7%97%d7%99%d7%a4%d7%94/
ATTACH;FMTTYPE=image/jpeg:https://www.medpeople.org.il/wp-content/uploads/2022/04/קהילה-מקבלת-שמורה.jpg
END:VEVENT
BEGIN:VEVENT
DTSTART;TZID=Asia/Jerusalem:20220522T080000
DTEND;TZID=Asia/Jerusalem:20220527T170000
DTSTAMP:20260426T073313
CREATED:20220506T060006Z
LAST-MODIFIED:20220506T060130Z
UID:6288-1653206400-1653670800@www.medpeople.org.il
SUMMARY:שבוע של ים בחודש האקלים
DESCRIPTION:אנשי הים התיכון מזמינים אתכם לשבוע של ים הרצאות\, מיצגים ותערוכות.\nההרצאות :\nיום ראשון 22.5 18:30-20:00 -שמורות ימיות בים התיכון\nמה הקשר בין שמורות ימיות לשמירה על הים?\nהים חיוני לרווחתנו\, אולם קיומו אינו בטוח. הוא סובל מזיהום\, קידוח\, דיג יתר ועוד פוגעים בו\, וגם ממשבר האקלים: התחממות טמפרטורת המים\, ופלישה מאסיבית של מינים זרים המערערים את המאזן האקולוגי.\nרק בעזרת שמורות ימיות נוכל להגן על הצבים\, הדולפינים\, סוסוני הים\, הצדפים\, הדגים\, האלמוגים ועל כל המערכת האקולוגית של הים התיכון.\nמרצה: מייקל רפאל\, רכז ארצי קואליציית אנשי הים התיכון.\n—————\nיום שלישי 24.5 18:30-20:00 – דוגמים צלול\nמדוע מוזרמות שאריות תרופות לים שלנו?\nבפרויקט "דוגמים צלול" שמנו לעצמינו למטרה להבין מה זורם לים שלנו בכל פעם שיורד גשם\, דגמנו ומצאנו תוצאות מטרידות. האתגר עכשיו הוא להביא לשינוי המציאות.\nבסיום ההרצאה תוקרן הכתבה של יפעת גליק על נושא הנקזים ששודרה בחדשות\nמרצה: נדב דסברג\, רכז קהילה ושיתופי פעולה בעמותת צלול.\n———————\nיום חמישי 26.5 18:30-20:00 – מגוון המינים ויונקים ימיים בישראל\nלוויתנים\, דולפינים וכלבי ים פוקדים את חופי ישראל\, חלקם מבקרים נדירים ביותר וחלקם נוכחים בישראל באופן קבוע. חלקם בסכנת הכחדה חמורה\, ועל אחרים אין מספיק מידע.\nהרצאה של ד"ר אביעד שיינין \, מנהל תחום טורפי על בתחנת מוריס קאהן לחקר הים\, ומנהל מרכז הדולפין והים של עמותת דלפיס.\n———-\nשבוע הים הוא במסגרת חודש האקלים של מזא"ה 9\, ובהתשתתפות ארגוני הים והסביבה:\nצלול\, אקואושן\, החברה להגנת הטבע\, דלפיס.\nעמותת אקואושן תציג תערוכה של 'הרשת הארצית של מתנדבי חירום ים' ופעילות המתנדבים באירוע זיהום הזפת בחופי ישראל שאירע לפני שנה.\nמבקרי התערוכה יוכלו להתנסות באתגר ניקיון הזפת במצע החולי.\nעמותת דלפיס תציג תערוכת צילום משמורת ים אבטח הסביב הימית והסביבה החופית שבין אשדוד לזיקים.\nיהיה מגניב. נשמח שתבואו\, ותביאו חברים.\nמוזמנים להירשם:\nhttps://www.coing.co/TLV_mazeh9_Climatemonth/54182
URL:https://www.medpeople.org.il/event/%d7%a9%d7%91%d7%95%d7%a2-%d7%a9%d7%9c-%d7%99%d7%9d-%d7%91%d7%97%d7%95%d7%93%d7%a9-%d7%94%d7%90%d7%a7%d7%9c%d7%99%d7%9d/
ATTACH;FMTTYPE=image/jpeg:https://www.medpeople.org.il/wp-content/uploads/2022/05/אנשי-הים-התיכון-מגיעים-למזאה-9-שבוע-של-ים-וכחול.jpg
END:VEVENT
BEGIN:VEVENT
DTSTART;TZID=Asia/Jerusalem:20220530T200000
DTEND;TZID=Asia/Jerusalem:20220530T210000
DTSTAMP:20260426T073313
CREATED:20220529T085235Z
LAST-MODIFIED:20220529T112023Z
UID:6319-1653940800-1653944400@www.medpeople.org.il
SUMMARY:דיג בישראל - גיא לויאן. 30.5
DESCRIPTION:לכבוד עונת רביית הדייג\, נשמע הרצאה חשובה ומעניינת בנושא ה"דייג בישראל" שתועבר על ידי:\nגיא לויאן – מנהל מרחב ים מרכז ביחידה הימית ברשות הטבע והגנים.\nבהרצאה נחשף לפעילות היחידה הימית ולדרכי האכיפה והפיקוח על הדיג בישראל\, כאמצעי לשמירת הטבע ולהסדרת המרחב הימי.\n30/05 יום שני ב 20:00\n👈🏻 להרשמה להרצאה: https://bit.ly/38j9OCj\n👈🏻 קישור לאיוונט: https://fb.me/e/3i5sId1aO
URL:https://www.medpeople.org.il/event/%d7%93%d7%99%d7%92-%d7%91%d7%99%d7%a9%d7%a8%d7%90%d7%9c-%d7%92%d7%99%d7%90-%d7%9c%d7%95%d7%99%d7%90%d7%9f/
ATTACH;FMTTYPE=image/jpeg:https://www.medpeople.org.il/wp-content/uploads/2022/05/חלון-לים-התיכון.jpg
END:VEVENT
BEGIN:VEVENT
DTSTART;TZID=Asia/Jerusalem:20220608T193000
DTEND;TZID=Asia/Jerusalem:20220608T203000
DTSTAMP:20260426T073313
CREATED:20220529T110739Z
LAST-MODIFIED:20220529T111348Z
UID:6328-1654716600-1654720200@www.medpeople.org.il
SUMMARY:כשהים משחיר. הקרנת סרטו של רן לוי ימומרי. 8.6
DESCRIPTION:יום האוקינוסים הבינלאומי\, יום רביעי 8.6\, בשעה19:30\, בית חנה סנש\, שדות ים\nהקרנת הסרט "כשהים משחיר" \nים כחול וחוף נקי הוא האידיאל של כל מי שאוהב ים.\nאולם בוקר אחד הכל יכול להשתנות והים נצבע מכחול לשחור. אסון נפט קורה אחת לכמה שנים\, בדרך כלל הרחק מכאן\, במקום מבודד.\nהאירוע תופס כותרות לימים אחדים ואחר כך נעלם.\nאבל הזיהום נשאר ואינו ממהר להתפוגג כמו הכותרות.\nרן לוי-יממורי יצא לחוות כיצד מתמודדים בזיהום? מה השלכותיו על הים ועל המתפרנסים ממנו?\n"כשהים משחיר" הוא תיעוד מרגש של אירוע הנפט שארע בחופי פרו בחודש פברואר השנה.\nתקלות כאלה קורות\, אך האם חברות הנפט והממשלות ערוכות להן?\nכולנו חיים בקרבת הים\, וכולנו רואים את האסדה המזדקרת מן הים. האם הגופים הממונים באמת מוכנים לכל תרחיש?\nעל מנת שנוכל להעריך את כמות המשתתפים אנא אשרו הגעתכם בהצטרפות לקבוצת ווטסאפ שקטה:\nhttps://chat.whatsapp.com/E8rcboANXICKt1Vi9K2m7r
URL:https://www.medpeople.org.il/event/%d7%9b%d7%a9%d7%94%d7%99%d7%9d-%d7%9e%d7%a9%d7%97%d7%99%d7%a8-%d7%94%d7%a7%d7%a8%d7%a0%d7%aa-%d7%a1%d7%a8%d7%98%d7%95-%d7%a9%d7%9c-%d7%a8%d7%9f-%d7%9c%d7%95%d7%99-%d7%99%d7%9e%d7%95%d7%9e%d7%a8%d7%99/
ATTACH;FMTTYPE=image/jpeg:https://www.medpeople.org.il/wp-content/uploads/2022/05/קיימות-בקהילה.jpg
END:VEVENT
BEGIN:VEVENT
DTSTART;TZID=Asia/Jerusalem:20220609T180000
DTEND;TZID=Asia/Jerusalem:20220609T200000
DTSTAMP:20260426T073313
CREATED:20220529T085605Z
LAST-MODIFIED:20220529T111316Z
UID:6322-1654797600-1654804800@www.medpeople.org.il
SUMMARY:מצעד למען החיים בים - יום האוקיינוסים - 9.6
DESCRIPTION:עצרו את המכמורות למען החיים בים\n יום חמישי ה-09.06 – תל אביב \nביום האוקיאנוסים ב-9 ליוני בשעה 18:00\, נצעד יחד אירגוני בעלי החיים\, ארגוני סביבה וים\, צעירים ומבוגרים אוהבי הים בצעדה ססגונית על טיילת תל אביב מהמרינה לפרק צרלס קלור. בצעדה נרים באנרים ושלטים שקוראים להגן על הים\, לשמור על מגוון המינים ובעלי החיים ולאסור דייג מכמורות. בצעדה יהיו בובות ענק של יצורים ימיים ולהקה צועדת שתנגן מוזיקה מרימה.\nהאו"ם קורא לעולם להפוך 30% מהים לשמורות ימיות לפני שהמצב יגיע לקריסה רחבה של המערכות האקולוגיות בים שתביא להשפעות גם על האנושות. בינתיים כאן בישראל חורשות מכמורתנים (סירות דייג גדולות) את קרקעית הים שפוגעות בחיים בים ומשחררת כמות פליטות פחמן גדולה. רק קול חזק ובועט של האזרחים תשנה את המצב.\nהצטרפו אל חופש לבעלי החיים\, מגמה ירוקה\, מרד בעלי החיים\, אנשי הים התיכון\, אנימלס\, החצי הכחול של החברה להגנת הטבע\, ועוד ארגונים אחרים להגן על היצורים בים ולבקש מהממשלה שתוציא את המכמורתנים מהים.\nקישור לעמוד הקמפיין למידע נוסף:\nhttps://trawl-fishing.medpeople.org.il/
URL:https://www.medpeople.org.il/event/%d7%9e%d7%a6%d7%a2%d7%93-%d7%9c%d7%9e%d7%a2%d7%9f-%d7%94%d7%97%d7%99%d7%99%d7%9d-%d7%91%d7%99%d7%9d-%d7%99%d7%95%d7%9d-%d7%94%d7%90%d7%95%d7%a7%d7%99%d7%99%d7%a0%d7%95%d7%a1%d7%99%d7%9d/
ATTACH;FMTTYPE=image/jpeg:https://www.medpeople.org.il/wp-content/uploads/2022/05/הנכון.jpg
END:VEVENT
BEGIN:VEVENT
DTSTART;TZID=Asia/Jerusalem:20220628T190000
DTEND;TZID=Asia/Jerusalem:20220628T203000
DTSTAMP:20260426T073313
CREATED:20220529T092411Z
LAST-MODIFIED:20220529T111232Z
UID:6325-1656442800-1656448200@www.medpeople.org.il
SUMMARY:כלב הים הנזירי\, סיפורים וסודות - 28.6
DESCRIPTION:חשיבות הצילום המזהה בהבנת האקולוגיה השימורית של כלב הים הנזירי הים-תיכוני\nמרצה: ד"ר בונדונה\, מייסד ארגון Archipelagos באיטליה ונשיא מועצת המנהלים; חוקר כלבי ים נזיריים ים-תיכוניים בים האדריאטי ובים היוני. ד"ר בונדונה יגיע לישראל במסגרת פעילות עמותת 'דלפיס' בפרויקט האזורי לשימור כלב הים הנזירי במזרח הים התיכון\, במימון ה MSA (Monk Seal Alliance).\nכלב הים הנזירי הים-תיכוני מוגדר כמין בסכנת הכחדה על ידי ארגון שימור הטבע העולמי ואוכלוסייתו העולמית מונה בין 700-800 פרטים. מספרים אלו מבוססים בעיקר על גרעיני הרבייה הידועים ואינם מביאים בחשבון תצפיות חוזרות של פרטים ממין זה בבתי הגידול השונים שלו. על מנת לאפשר שימור יעיל של המין ולהביא להתאוששותו\, יש לזהות את הפרטים השונים ולעקוב אחריהם.\nד"ר בונדונה יספר בהרצאתו על עבודתו בשנים האחרונות עם אליקי פאנו\, מחלוצות המחקר על מין זה בים היוני ועל הפרויקט המשותף שלהם המתעד את התאוששות כלבי הים באזור בעזרת בעזרת מצלמות אינפרא-אדום שהותקנו במערות ימיות ומאפשרות את זיהוי הפרטים השונים. תהליך זיהוי הפרטים יוצג בפני הקהל
URL:https://www.medpeople.org.il/event/%d7%9b%d7%9c%d7%91-%d7%94%d7%99%d7%9d-%d7%94%d7%a0%d7%96%d7%99%d7%a8%d7%99-%d7%a1%d7%99%d7%a4%d7%95%d7%a8%d7%99%d7%9d-%d7%95%d7%a1%d7%95%d7%93%d7%95%d7%aa/
ATTACH;FMTTYPE=image/jpeg:https://www.medpeople.org.il/wp-content/uploads/2022/05/הרצאה-לואיגי-עם-שעה.jpg
END:VEVENT
BEGIN:VEVENT
DTSTART;TZID=Asia/Jerusalem:20220708T093000
DTEND;TZID=Asia/Jerusalem:20220708T113000
DTSTAMP:20260426T073313
CREATED:20220619T055427Z
LAST-MODIFIED:20220619T055427Z
UID:6382-1657272600-1657279800@www.medpeople.org.il
SUMMARY:הצצה באצה - סיור בחוות סיקורה
DESCRIPTION: סיור בחוות סיקורה החושף אותנו לעולמן המופלא של האצות\, לתרומתן העצומה לכדור הארץ ובהקשר ספציפי יותר לתזונתנו ולבריאות גופנו.\nבתוכנית: הרצאה קצרה\, סיור במתקן סיקורה כולל טעימות. ומשחק נושא פרסים למתנדבים.\nמיקום: חוות סיקורה\, מכמורת\, בארגון 'קהילת ים שרון' /אקואושן\nנא להירשם מראש. מספר המקומות מוגבל:\nhttps://forms.gle/NEgGpB3FcaFrGJC28
URL:https://www.medpeople.org.il/event/%d7%94%d7%a6%d7%a6%d7%94-%d7%91%d7%90%d7%a6%d7%94-%d7%a1%d7%99%d7%95%d7%a8-%d7%91%d7%97%d7%95%d7%95%d7%aa-%d7%a1%d7%99%d7%a7%d7%95%d7%a8%d7%94/
ATTACH;FMTTYPE=image/jpeg:https://www.medpeople.org.il/wp-content/uploads/2022/06/WhatsApp-Image-2022-06-19-at-8.44.53-AM.jpeg
END:VEVENT
BEGIN:VEVENT
DTSTART;TZID=Asia/Jerusalem:20220721T190000
DTEND;TZID=Asia/Jerusalem:20220721T203000
DTSTAMP:20260426T073313
CREATED:20220711T103516Z
LAST-MODIFIED:20220711T103516Z
UID:6424-1658430000-1658435400@www.medpeople.org.il
SUMMARY:מדוזות - ממטרד למשאב. מרצה דור אדליסט
DESCRIPTION:המעלות עולות והמדוזות מגיעות ולאור הביקוש להבנת החיה המרתקת הזו- הצלחנו להשיג את ההרצאה של ד"ר דור אדליסט\, אקולוג ימי אופטימי שחוקר מדוזות כבר למעלה מעשור באוניברסיטת חיפה ובשיתוף האיחוד האירופי. \nההרצאה בחוף ב"ש באשדוד. מיקום מדוייק ינתן בהמשך \nלשיריון מקום יש להירשם בקישור: https://forms.gle/t8JRgjNpwNw8mA7D6
URL:https://www.medpeople.org.il/event/%d7%9e%d7%93%d7%95%d7%96%d7%95%d7%aa-%d7%9e%d7%9e%d7%98%d7%a8%d7%93-%d7%9c%d7%9e%d7%a9%d7%90%d7%91-%d7%9e%d7%a8%d7%a6%d7%94-%d7%93%d7%95%d7%a8-%d7%90%d7%93%d7%9c%d7%99%d7%a1%d7%98/
ATTACH;FMTTYPE=image/jpeg:https://www.medpeople.org.il/wp-content/uploads/2022/07/מדוזות.jpeg
END:VEVENT
BEGIN:VEVENT
DTSTART;TZID=Asia/Jerusalem:20220723T170000
DTEND;TZID=Asia/Jerusalem:20220723T183000
DTSTAMP:20260426T073313
CREATED:20220721T091728Z
LAST-MODIFIED:20220721T091728Z
UID:6431-1658595600-1658601000@www.medpeople.org.il
SUMMARY:ארמונות בחול - סדנת תפיסול עם גבי ריינבו
DESCRIPTION:סדנת פיסול ארמונות בחול עם האמן גבי ריינבו בחוף בצת עמוד 27. ( 200 מ' דרומית לגשר ולשפך נחל בצת).\nהסדנה במסגרת יום שלם של הסברה ומודעות לסביבה ולשמורה הימית מטעם הקהילה המקומית של אנשי הים התיכון ( שומרי החוף והים ) תושבים מוזמנים לבקר במרכז הסברה החל מ 1000. במקום יהיו חומרי הסברה לעיון ופעילים להדרכה. כדאי להביא – כובע\, מים\, עת קטן לחפירה וציליה אישית. \nללא עלות
URL:https://www.medpeople.org.il/event/%d7%90%d7%a8%d7%9e%d7%95%d7%a0%d7%95%d7%aa-%d7%91%d7%97%d7%95%d7%9c-%d7%a1%d7%93%d7%a0%d7%aa-%d7%aa%d7%a4%d7%99%d7%a1%d7%95%d7%9c-%d7%a2%d7%9d-%d7%92%d7%91%d7%99-%d7%a8%d7%99%d7%99%d7%a0%d7%91%d7%95/
ATTACH;FMTTYPE=image/jpeg:https://www.medpeople.org.il/wp-content/uploads/2022/07/ארומונות-בחול.jpg
END:VEVENT
BEGIN:VEVENT
DTSTART;TZID=Asia/Jerusalem:20220725T200000
DTEND;TZID=Asia/Jerusalem:20220725T210000
DTSTAMP:20260426T073313
CREATED:20220721T091208Z
LAST-MODIFIED:20220721T091208Z
UID:6428-1658779200-1658782800@www.medpeople.org.il
SUMMARY:פסולת ימית - בעיה עולמית. מרצה דר' גליה פסטרנק
DESCRIPTION:הרצאה מרתקת של דר' גליה פסטרנק \, מומחית לפסולת ימית\, על מחקר שביצעה דרך אונ' חיפה ובשותפות עם עמותת אקואושן. מחקר אשר בעקבותיו יצא משרד הגנת הסביבה בפרויקט "חד פעמי לא בים שלי". \nבהרצאה נשמע על פסולת הפלסטיק בארץ ועולם-\nמהיכן היא מגיעה?\nהאם היא מסכנת אותנו?\nעל מי האשמה ומה אנחנו יכולים לעשות כדי להפחית אותה! \nמתי? 25/7 יום שני ב 20:00\n👈 להרשמה להרצאה:\nhttps://bit.ly/3R8F0G3\n👈 קישור לאיוונט:\nhttps://fb.me/e/22h9XokfW
URL:https://www.medpeople.org.il/event/%d7%a4%d7%a1%d7%95%d7%9c%d7%aa-%d7%99%d7%9e%d7%99%d7%aa-%d7%91%d7%a2%d7%99%d7%94-%d7%a2%d7%95%d7%9c%d7%9e%d7%99%d7%aa-%d7%9e%d7%a8%d7%a6%d7%94-%d7%93%d7%a8-%d7%92%d7%9c%d7%99%d7%94-%d7%a4%d7%a1/
ATTACH;FMTTYPE=image/jpeg:https://www.medpeople.org.il/wp-content/uploads/2022/07/אקואושן-25.7.jpg
END:VEVENT
BEGIN:VEVENT
DTSTART;TZID=Asia/Jerusalem:20220805T090000
DTEND;TZID=Asia/Jerusalem:20220805T170000
DTSTAMP:20260426T073313
CREATED:20220721T092811Z
LAST-MODIFIED:20220721T092811Z
UID:6434-1659690000-1659718800@www.medpeople.org.il
SUMMARY:הכשרת התנדבות קהילת ים דרום
DESCRIPTION:יש לך קצת זמן פנוי באוגוסט-ספטמבר? רוצה לעשות שינוי ולהשפיע על הסביבה החופית והימית?\nבסדנה נלמד איך כדאי לגשת לאנשים וגם את עשרת הדיברות של מה לעשות/ לא לעשות בהסברה לכל הגילים.\nהכרות עם עמדת ההסברה ומשחקי החוף וכמובן חלוקה לתפקידים וצוותים. \nבתוכנית \n9:00 התכנסות ונשנושים \n9:15 "הגישה משנה" – סדנת הסברה ועמידה מול קהל:\nאיך לגשת להסברה נעימה\, להעלות מודעות ולעודד\n. לשינוי הרגלים בריא לנו ולסביבה (אורית חן) \n10:00 ארוחת בוקר ים תיכונית \n10:30 שיחה עם דוד חלפון פקח ימי \n11:30 הכרות עם ציוד\, כלים ותפעול משחקי החוף. \nההכשרה בבית ספר שדה שקמים\, ניצנים. \nהרשמה בלינק: \nhttps://forms.gle/PXiSVSa8SqDe5rrC9
URL:https://www.medpeople.org.il/event/%d7%94%d7%9b%d7%a9%d7%a8%d7%aa-%d7%94%d7%aa%d7%a0%d7%93%d7%91%d7%95%d7%aa-%d7%a7%d7%94%d7%99%d7%9c%d7%aa-%d7%99%d7%9d-%d7%93%d7%a8%d7%95%d7%9d/
ATTACH;FMTTYPE=image/jpeg:https://www.medpeople.org.il/wp-content/uploads/2022/07/הכשרת-מתנדבים.jpeg
END:VEVENT
BEGIN:VEVENT
DTSTART;TZID=Asia/Jerusalem:20220902T150000
DTEND;TZID=Asia/Jerusalem:20220902T190000
DTSTAMP:20260426T073313
CREATED:20220821T110908Z
LAST-MODIFIED:20220821T110908Z
UID:6457-1662130800-1662145200@www.medpeople.org.il
SUMMARY:חגיגת השמורות הימיות - הפנינג לכל המשפחה
DESCRIPTION:בואו לסגור איתנו את החופש הגדול במסיבה הכי שווה על החוף. ביום שישי 2.9.22 החל מהשעה 15:00 בחוף שקמונה בחיפה. באירוע נחגוג את הכרזתה של שמורת ראש כרמל – חיפה\, בסימן השמורות הימיות בישראל. סיורים\, מתחם יוגה\, הופעות חיות\, פעילויות לילדים ועוד. מתאים לכל המשפחה. הכניסה חופשית! מחכים לכם\, קהילות אנשי הים התיכון. \nפרטים נוספים: https://bit.ly/3vSrFbZ
URL:https://www.medpeople.org.il/event/%d7%97%d7%92%d7%99%d7%92%d7%aa-%d7%94%d7%a9%d7%9e%d7%95%d7%a8%d7%95%d7%aa-%d7%94%d7%99%d7%9e%d7%99%d7%95%d7%aa-%d7%94%d7%a4%d7%a0%d7%99%d7%a0%d7%92-%d7%9c%d7%9b%d7%9c-%d7%94%d7%9e%d7%a9%d7%a4%d7%97/
ATTACH;FMTTYPE=image/jpeg:https://www.medpeople.org.il/wp-content/uploads/2022/08/חגיגת-שמורות-חדש.jpg
END:VEVENT
BEGIN:VEVENT
DTSTART;TZID=Asia/Jerusalem:20221024T200000
DTEND;TZID=Asia/Jerusalem:20221024T210000
DTSTAMP:20260426T073313
CREATED:20221006T115257Z
LAST-MODIFIED:20221006T115257Z
UID:6488-1666641600-1666645200@www.medpeople.org.il
SUMMARY:משבר האקלים- זה הזמן לפעול. הרצאה של מייקל רפאל
DESCRIPTION:לקראת הקופ 27 (ועידת האקלים העולמית בשארם)\, שיחה מרתקת עם: מייקל רפאל – מנהלת האקלים\, אנשי הים התיכון\, המרד בהכחדה. במפגש נסקור את הגורמים למשבר האקלים ואת התחזיות של המדענים. \nמעט יותר בהרחבה:\nמזכ"ל האו"ם אמר:\n"חצי מהאנושות חיה באזורי סכנה- הצפות\, בצורות\, סופות קיצוניות\, שריפות יער ועוד. אנחנו צריכים לבחור: פעולה קולקטיבית או התאבדות קולקטיבית. זה בידיים שלנו". \nבינתיים בישראל\, אין פעולות ממשיות למען העתיד שלנו ושל הדורות הבאים. אזור הים התיכון מושפע בצורה קיצונית ואם לא נפעל במהירות ונחישות גם הים שלנו בסכנה אמיתית. החדשות הטובות הן שאת התחזיות השחורות עדיין אפשר למנוע. \nאם אתם רוצים להבין סוף סוף במה מדובר? או אם שמעתם מספיק ורוצים לדעת מה ניתן לעשות?\nהמפגש הזה הוא בשבילכן.ם.! \nההרצאה בזום:  להרשמה  https://bit.ly/3e6VJLb
URL:https://www.medpeople.org.il/event/%d7%9e%d7%a9%d7%91%d7%a8-%d7%94%d7%90%d7%a7%d7%9c%d7%99%d7%9d-%d7%96%d7%94-%d7%94%d7%96%d7%9e%d7%9f-%d7%9c%d7%a4%d7%a2%d7%95%d7%9c-%d7%94%d7%a8%d7%a6%d7%90%d7%94-%d7%a9%d7%9c-%d7%9e%d7%99%d7%99/
ATTACH;FMTTYPE=image/jpeg:https://www.medpeople.org.il/wp-content/uploads/2022/10/WhatsApp-Image-2022-10-06-at-14.38.50.jpeg
END:VEVENT
BEGIN:VEVENT
DTSTART;TZID=Asia/Jerusalem:20221101T110000
DTEND;TZID=Asia/Jerusalem:20221101T163000
DTSTAMP:20260426T073313
CREATED:20221012T125559Z
LAST-MODIFIED:20221012T125559Z
UID:6494-1667300400-1667320200@www.medpeople.org.il
SUMMARY:בוחרים בים
DESCRIPTION:ביום הבחירות\, 1.11.22 נבחר בים ובשמירה עליו\, ונחגוג בשמורת ים אכזיב את הכרזת השמורה ואת פתיחת מרוץ האקלים שיצא מראש הנקרה.\n11:00-15:00\nסדנאות אקולגיות לכל המשפחה: אקו פריקו\, משחקי חוף\, תערוכת צילומי ים וחוף ועוד.\n13:00-15:00\nסיורי חוף עם חנן אזולאי – מומחה לרצועת החוף והחיים בשמורה הימית.\nדוכני הסברה של קהילת הים המקומית שומרי החוף והים\, חרום ים\, ואחרים.\n13:30-15:30\nהופעות חיות: דורבן הילס\, המתיוונים\, דנה אפרתי ועוד\nהרצאות טד : אייל מילר (רשות הטבע והגנים)\, ד"ר מיה אלסר (דלפיס )\, מייקל רפאל (אנשי הים התיכון)\, יובל אלון ( קיימא) ועוד.\n15:30\nטקס פתיחת מירוץ האקלים\, RUNNING OUT OF TIME! \,מירוץ השליחים הגדול בעולם\, להעלאת המודעות למשבר האקלים. בהשתתפות אריק רוזנבלום\, מנכ"ל אקואושן\, משה דוידוביץ\, ראש מועצת מטה אשר.\n16:00\nהזנקת מרוץ האקלים.
URL:https://www.medpeople.org.il/event/%d7%91%d7%95%d7%97%d7%a8%d7%99%d7%9d-%d7%91%d7%99%d7%9d/
ATTACH;FMTTYPE=image/jpeg:https://www.medpeople.org.il/wp-content/uploads/2022/10/נושא-אירוע-12.10.jpg
END:VEVENT
END:VCALENDAR