BEGIN:VCALENDAR
VERSION:2.0
PRODID:-//אנשי הים התיכון - ECPv6.9.0//NONSGML v1.0//EN
CALSCALE:GREGORIAN
METHOD:PUBLISH
X-WR-CALNAME:אנשי הים התיכון
X-ORIGINAL-URL:https://www.medpeople.org.il
X-WR-CALDESC:Events for אנשי הים התיכון
REFRESH-INTERVAL;VALUE=DURATION:PT1H
X-Robots-Tag:noindex
X-PUBLISHED-TTL:PT1H
BEGIN:VTIMEZONE
TZID:Asia/Jerusalem
BEGIN:DAYLIGHT
TZOFFSETFROM:+0200
TZOFFSETTO:+0300
TZNAME:IDT
DTSTART:20180323T000000
END:DAYLIGHT
BEGIN:STANDARD
TZOFFSETFROM:+0300
TZOFFSETTO:+0200
TZNAME:IST
DTSTART:20181027T230000
END:STANDARD
BEGIN:DAYLIGHT
TZOFFSETFROM:+0200
TZOFFSETTO:+0300
TZNAME:IDT
DTSTART:20190329T000000
END:DAYLIGHT
BEGIN:STANDARD
TZOFFSETFROM:+0300
TZOFFSETTO:+0200
TZNAME:IST
DTSTART:20191026T230000
END:STANDARD
END:VTIMEZONE
BEGIN:VEVENT
DTSTART;TZID=Asia/Jerusalem:20190118T123000
DTEND;TZID=Asia/Jerusalem:20190118T123000
DTSTAMP:20260425T193335
CREATED:20190116T131408Z
LAST-MODIFIED:20190117T072240Z
UID:2876-1547814600-1547814600@www.medpeople.org.il
SUMMARY:ניקוי חוף וסיור פלט ים + שחרור צבים. חוף ניצנים
DESCRIPTION:אתם מוזמנים לאירוע של ניקוי חוף וסיור פלט ים + שחרור צבים בחוף ניצנים .החנייה בחוף ניצנים \n 
URL:https://www.medpeople.org.il/event/%d7%a0%d7%99%d7%a7%d7%95%d7%99-%d7%97%d7%95%d7%a3-%d7%95%d7%a1%d7%99%d7%95%d7%a8-%d7%a4%d7%9c%d7%98-%d7%99%d7%9d-%d7%a9%d7%97%d7%a8%d7%95%d7%a8-%d7%a6%d7%91%d7%99%d7%9d-%d7%97%d7%95%d7%a3-%d7%a0/
ATTACH;FMTTYPE=image/jpeg:https://www.medpeople.org.il/wp-content/uploads/2019/01/אירוע-בניצנים_Easy-Resize.com_.jpg
END:VEVENT
BEGIN:VEVENT
DTSTART;TZID=Asia/Jerusalem:20190118T093000
DTEND;TZID=Asia/Jerusalem:20190118T113000
DTSTAMP:20260425T193335
CREATED:20190110T112316Z
LAST-MODIFIED:20190110T112316Z
UID:2861-1547803800-1547811000@www.medpeople.org.il
SUMMARY:קורס הכשרה - קהילת ים השרון. מפגש שלישי
DESCRIPTION:מפגש 3 – סיור בחוף הים הדרכה על הכרת הסביבה הימית והחופית בשילוב פעילויות של משתתפי הקורס.\nההרשמה מלאה.
URL:https://www.medpeople.org.il/event/%d7%a7%d7%95%d7%a8%d7%a1-%d7%94%d7%9b%d7%a9%d7%a8%d7%94-%d7%a7%d7%94%d7%99%d7%9c%d7%aa-%d7%99%d7%9d-%d7%94%d7%a9%d7%a8%d7%95%d7%9f-%d7%9e%d7%a4%d7%92%d7%a9-%d7%a9%d7%9c%d7%99%d7%a9%d7%99/
ATTACH;FMTTYPE=image/jpeg:https://www.medpeople.org.il/wp-content/uploads/2019/01/מפגש-אקואושין_Easy-Resize.com_.jpg
END:VEVENT
BEGIN:VEVENT
DTSTART;TZID=Asia/Jerusalem:20190114T190000
DTEND;TZID=Asia/Jerusalem:20190114T190000
DTSTAMP:20260425T193335
CREATED:20190107T154953Z
LAST-MODIFIED:20190107T155318Z
UID:2847-1547492400-1547492400@www.medpeople.org.il
SUMMARY:ים על הבר - מפגש יזמים סביבתיים והרצאה בנושא מיקרו-פלסטיק
DESCRIPTION:
URL:https://www.medpeople.org.il/event/%d7%99%d7%9d-%d7%a2%d7%9c-%d7%94%d7%91%d7%a8/
ATTACH;FMTTYPE=image/jpeg:https://www.medpeople.org.il/wp-content/uploads/2019/01/yam-al-habar_Easy-Resize.com_.jpg
END:VEVENT
BEGIN:VEVENT
DTSTART;TZID=Asia/Jerusalem:20190113T183000
DTEND;TZID=Asia/Jerusalem:20190113T200000
DTSTAMP:20260425T193335
CREATED:20181223T084700Z
LAST-MODIFIED:20181223T084700Z
UID:2672-1547404200-1547409600@www.medpeople.org.il
SUMMARY:ערב על הבר - גומלות את ישראל מהפלסטיק החד פעמי
DESCRIPTION:תא פלסטיק של מגמה ירוקה עושה רילוקיישן מהערבה הרחוקה לתל אביב! \nבואו לשמוע איך אתם יכולים להיות חלק מהשינוי\, ותשמיעו את קולכם.\nתספרו לנו איזה רעיונות יש לכם בשביל להוציא את הפלסטיק החד פעמי מחוץ לחוק! \nאז מה מחכה לנו באירוע?\nדוברות מדהימות ומעניינות מהתחום של מיגור פלסטיק ואפס פסולת:\nחברת הכנסת – יעל כהן פארן\nלימור גורליק – עמותת צלול\nטניה בירד – לא שמים קשים\nיסמין יותם ואירנה שצ'ופק – אפס פסולת ישראל\nוקרן תמרי המארגנת הקהילתית של התא שנפתח בתל אביב! \nלו"ז הערב:\n18:20 – התכנסות\n18:30 – דבריהן של הנשים הנפלאות האלו\n19:10 – שולחנות עגולים על פי נושאים\n19:40 – שיתוף רעיונות שעלו בשולחנות העגולים\n20:00 – סיכום \nבקיצור יהיה ערב מרגש ומעניין!\nמקווים לראותכןם!\nלשאלות\, תרגישו חופשי לפנות לקרן תמרי – 0548191341 – arava@green.org.il
URL:https://www.medpeople.org.il/event/%d7%a2%d7%a8%d7%91-%d7%a2%d7%9c-%d7%94%d7%91%d7%a8-%d7%92%d7%95%d7%9e%d7%9c%d7%95%d7%aa-%d7%90%d7%aa-%d7%99%d7%a9%d7%a8%d7%90%d7%9c-%d7%9e%d7%94%d7%a4%d7%9c%d7%a1%d7%98%d7%99%d7%a7-%d7%94%d7%97/
ATTACH;FMTTYPE=image/jpeg:https://www.medpeople.org.il/wp-content/uploads/2018/12/on_the_bar.jpg
END:VEVENT
BEGIN:VEVENT
DTSTART;TZID=Asia/Jerusalem:20181230T173000
DTEND;TZID=Asia/Jerusalem:20181230T180000
DTSTAMP:20260425T193335
CREATED:20181227T125127Z
LAST-MODIFIED:20181227T125127Z
UID:2793-1546191000-1546192800@www.medpeople.org.il
SUMMARY:ראיון בשידור חי עם משה בוגי יעלון בנושא אסדות הגז
DESCRIPTION:ראיון בשידור חי בפייסבוק עם הרמטכ"ל ושר הבטחון לשעבר משה בוגי יעלון בנושא: אסדות הגז.\nיום ראשון 30.12\, 17:30.
URL:https://www.medpeople.org.il/event/%d7%a8%d7%90%d7%99%d7%95%d7%9f-%d7%91%d7%a9%d7%99%d7%93%d7%95%d7%a8-%d7%97%d7%99-%d7%a2%d7%9d-%d7%9e%d7%a9%d7%94-%d7%91%d7%95%d7%92%d7%99-%d7%99%d7%a2%d7%9c%d7%95%d7%9f-%d7%91%d7%a0%d7%95%d7%a9%d7%90/
ATTACH;FMTTYPE=image/jpeg:https://www.medpeople.org.il/wp-content/uploads/2018/12/bogi-yaalon_Easy-Resize.com_.jpg
END:VEVENT
BEGIN:VEVENT
DTSTART;TZID=Asia/Jerusalem:20181226T190000
DTEND;TZID=Asia/Jerusalem:20181226T200000
DTSTAMP:20260425T193335
CREATED:20181224T091051Z
LAST-MODIFIED:20181224T091051Z
UID:2746-1545850800-1545854400@www.medpeople.org.il
SUMMARY:חלון לים התיכון - פרופ' אורן לוי בהרצאתו "נצלול"
DESCRIPTION:פרופסור אורן לוי מאוניברסיטת בר אילן\, עומד בראש מעבדה העוסקת בחקר הסנכרון\, רבייה ומנגנון השעון הביולוגי בשוניות אלמוגים.\nבהרצאתו 'נצלול' לעולם המופלא שמתחת לים ונשמע על מה אחראים שעונים ביולוגיים ביצורים ימיים \,מהו שעון צירקאדי? ומהו שעון צירקטידלי? ועוד. \nההרצאה תתקיים ביום רביעי – 26.12.18 בשעה 19:00 \,במרכז 'מגלים' \,שדות ים.\nמספר המקומות מוגבל לכן מומלץ להירשם מראש >>>\n04-6364485 או במייל education@ecoocean.org \n* הכניסה בתשלום סמלי של 20 ש"ח.
URL:https://www.medpeople.org.il/event/%d7%97%d7%9c%d7%95%d7%9f-%d7%9c%d7%99%d7%9d-%d7%94%d7%aa%d7%99%d7%9b%d7%95%d7%9f-%d7%a4%d7%a8%d7%95%d7%a4-%d7%90%d7%95%d7%a8%d7%9f-%d7%9c%d7%95%d7%99-%d7%91%d7%94%d7%a8%d7%a6%d7%90%d7%aa%d7%95/
ATTACH;FMTTYPE=image/jpeg:https://www.medpeople.org.il/wp-content/uploads/2018/12/חלון-לים-התיכון.jpg
END:VEVENT
BEGIN:VEVENT
DTSTART;TZID=Asia/Jerusalem:20181221T120000
DTEND;TZID=Asia/Jerusalem:20181221T140000
DTSTAMP:20260425T193335
CREATED:20181223T112554Z
LAST-MODIFIED:20181223T112554Z
UID:2740-1545393600-1545400800@www.medpeople.org.il
SUMMARY:מיצג ענק למען שמורות ימיות
DESCRIPTION:כולנו אוהבות את הים – אבל יש כאלו שהים הוא הבית שלהם (ולא\, אנחנו לא מתכוונות לגולשים) – צבים\, דגים\, אלמוגים\, דולפינים ועוד. \nביום שישי 21.12 בשעה 12:00 נגיע לחוף גורדון בתל אביב לפעילות ציבורית והסברתית למען קידום שמורות טבע ימיות כאן בארץ. \nבמהלך הפעילות נציג מיצג גדול שיצולם בעזרת רחפן ונקיים פעילות הסברה בחוף. במהלך הפעילות יינתן שלל מידע רלוונטי ומעניין בנושא: מהן שמורות טבע ימיות\, מה כבר קיים בישראל\, מה מתוכנן לעתיד\, מה הסכנות והבעיות מולם יש להיערך ומה אפשר וצריך לעשות. \nהצטרפו אלינו ועזרו לנו במיצג!
URL:https://www.medpeople.org.il/event/%d7%9e%d7%99%d7%a6%d7%92-%d7%a2%d7%a0%d7%a7-%d7%9c%d7%9e%d7%a2%d7%9f-%d7%a9%d7%9e%d7%95%d7%a8%d7%95%d7%aa-%d7%99%d7%9e%d7%99%d7%95%d7%aa/
ATTACH;FMTTYPE=image/jpeg:https://www.medpeople.org.il/wp-content/uploads/2018/12/48403333_10155938058792283_3204518654808948736_o.jpg
END:VEVENT
BEGIN:VEVENT
DTSTART;TZID=Asia/Jerusalem:20181019T130000
DTEND;TZID=Asia/Jerusalem:20181019T160000
DTSTAMP:20260425T193335
CREATED:20181223T101054Z
LAST-MODIFIED:20181223T101417Z
UID:2705-1539954000-1539964800@www.medpeople.org.il
SUMMARY:גיטרנים בחוף ניצנים
DESCRIPTION:בואו להכיר את הגיטרנים\, הכרישים והדולפנים בשמורת ים אבטח.
URL:https://www.medpeople.org.il/event/%d7%92%d7%99%d7%98%d7%a8%d7%a0%d7%99%d7%9d-%d7%91%d7%97%d7%95%d7%a3-%d7%a0%d7%99%d7%a6%d7%a0%d7%99%d7%9d/
ATTACH;FMTTYPE=image/jpeg:https://www.medpeople.org.il/wp-content/uploads/2018/10/WhatsApp-Image-2018-10-11-at-8.18.02-PM.jpeg
END:VEVENT
BEGIN:VEVENT
DTSTART;TZID=Asia/Jerusalem:20180608T140000
DTEND;TZID=Asia/Jerusalem:20180608T173000
DTSTAMP:20260425T193335
CREATED:20180530T175852Z
LAST-MODIFIED:20181223T083653Z
UID:2433-1528466400-1528479000@www.medpeople.org.il
SUMMARY:יום האוקיינוסים הבינלאומי למען שמורת ים השרון
DESCRIPTION:הילת ים השרון\, קהילת הגולשים ועיריית נתניה מזמינות את הציבור לאירוע השקת פרויקט "אנשי הים התיכון" ביום האוקיינוסים הבינלאומי! \nביום ו' 8.6.18 נפגשים בחוף פולג- דרום\, נתניה להפנינג קהילתי ענק ופתוח לקהל הרחב! \nבואו להכיר\, להצטרף ולחגוג אתנו את הים😊 \n"אנשי הים התיכון"- מי אנחנו? \nרשת ארצית של קהילות מקומיות הפועלת להקמת שמורות ימיות בים התיכון של ישראל. מאחורי "אנשי הים התיכון" עומדים ארגוני הסביבה המרכזיים ביותר בישראל הפועלים למען שמירת הטבע והים: החברה להגנת הטבע\, צלול\, אקו-אושן\, ומחמל"י. הרשת עובדת בשיתוף רשות הטבע והגנים ואירגון אנו- עושים שינוי. \nמה בתכנית? \nבאירוע תהנו מתחנות הפעלה: היכרות עם העולם הימי\, משט ראווה של צופי הים\, יצירת מיצג אמנות ייחודי מסוגו מפסולת- Evi Art סיור מודרך לשמורת פולג\, אימון כושר בהדרכת Rubin Success\, יצירת כתובת אנושית עם גלשנים חניכי במבו סרף / Bamboo Surf ותושבי האזור. \n*תחנות ההפעלה \, ההסברה והיצירה יפעלו לאורך כל האירוע*\n** המשתתפים יקבלו כובעים (עד גמר המלאי- כל הקודם זוכה!) \, כיבוד ושתייה קלה** \nלו"ז:\n14:00 התכנסות\, בסמוך לסוכה מס' 11.\n14:30 מיצג גלשנים בחוף- יוצרים ביחד כתובת אנושית.\n16:30 סיור מודרך בשמורת פולג (יש להירשם מראש).\n17:00 אימון כושר מיוחד שמשלב ניקיון חוף. \n*האירוע בשיתוף עם עיריית נתניה וארגון גולשי הגלים בישראל* \nשומרים על הים- מקימים שמורות ימיות בישראל! \nלמה חשוב להקים שמורות ימיות? \nכדי להגן על הטבע הימי ואלפי סוגי החי והצומח הנמצאים בו\, בשביל להגן על בעלי חיים ימיים גדולים כמו דולפינים וצבי ים שטווח המחיה שלהם רחב\, בשביל לשמור על נוף פתוח ומרחב לפעילויות פנאי ונופש\, בשביל שהמים שאנו מתרחצים וגולשים בהם יהיו נקיים ובריאים יותר\, בשביל שיהיו יותר אזורי צלילה מרהיבים ובשביל להגדיל את כמות הדגה בשטחי הדיג.\nכדי שנהנה מכל אלו ועוד\, חייבים להגדיל את אזורי שמורות הטבע בים התיכון. בישראל רבע אחוז בלבד משטח המים הטריטוריאליים מוכרז כשמורת טבע. על מנת לספק הגנה משמעותית על החי והצומח בים\, על מדינת ישראל להגדיל את שטחי שמורות הטבע להיקף של 20% משטח הים\, בהתאם לתכנית לשמירת הים שמציעה רשות הטבע והגנים. \nנתראה בחוף😊\nלבירורים ולהרשמה לסיור:\nעירית- 050-7232933\nבר- 052-56258020
URL:https://www.medpeople.org.il/event/%d7%99%d7%95%d7%9d-%d7%94%d7%90%d7%95%d7%a7%d7%99%d7%99%d7%a0%d7%95%d7%a1%d7%99%d7%9d-%d7%94%d7%91%d7%99%d7%a0%d7%9c%d7%90%d7%95%d7%9e%d7%99-%d7%9c%d7%9e%d7%a2%d7%9f-%d7%a9%d7%9e%d7%95%d7%a8%d7%aa/
LOCATION:חוף פולג\, נתניה\, Israel
ATTACH;FMTTYPE=image/jpeg:https://www.medpeople.org.il/wp-content/uploads/2018/05/33776668_408487622958450_4895942699426775040_n.jpg
END:VEVENT
BEGIN:VEVENT
DTSTART;TZID=Asia/Jerusalem:20180608T120000
DTEND;TZID=Asia/Jerusalem:20180608T180000
DTSTAMP:20260425T193335
CREATED:20180607T075649Z
LAST-MODIFIED:20180607T075649Z
UID:2566-1528459200-1528480800@www.medpeople.org.il
SUMMARY:הפנינג יום האוקיינוסים
DESCRIPTION:8.6 חוף בצת בין השעות 1200-1800\nפעילויות-התכנסות ודברי פתיחה (מידע כללי על השמורה הקבוצה והקמפיין )\n-הדרכה על צבי ים\n-הדרכה על השמורה הימית\n-פעילויות לילדים- תשע בריבוע- חידון שמורה לילדים\n-פינות יצירה לילדים בחול\n-תשבצת- חידון החוף והשמורה למשפחות\n-תערוכת צילומים מהשמורה\n-דוכן הסברה על הקבוצה – ועל והקמפיין.\n-אומנות חוף-פיסול בחול.\nהקרנת סרטונים מהנעשה בתוך השמורה ומתחת למים עם או בלי הדרכה
URL:https://www.medpeople.org.il/event/%d7%94%d7%a4%d7%a0%d7%99%d7%a0%d7%92-%d7%99%d7%95%d7%9d-%d7%94%d7%90%d7%95%d7%a7%d7%99%d7%99%d7%a0%d7%95%d7%a1%d7%99%d7%9d/
LOCATION:חוף בצת\, חוף בצת\, נהריה\, צפון\, Israel
ATTACH;FMTTYPE=image/jpeg:https://www.medpeople.org.il/wp-content/uploads/2018/06/בצת.jpg
END:VEVENT
BEGIN:VEVENT
DTSTART;TZID=Asia/Jerusalem:20180608T090000
DTEND;TZID=Asia/Jerusalem:20180608T190000
DTSTAMP:20260425T193335
CREATED:20180530T122615Z
LAST-MODIFIED:20200819T181345Z
UID:2397-1528448400-1528484400@www.medpeople.org.il
SUMMARY:השקה רשמית של רשת קהילות אנשי הים התיכון
DESCRIPTION:הפנינג גדול וצבעוני בשמורה הימית שקמונה. \n9:00-12:00 –\n– השקת קמפיין "אנשי הים התיכון": יצירת כתובת אנושית "אנשי הים התיכון" שתצולם מרחפן.\n– עמדות הסברה בטיילת (שתי הכניסות לשמורה) – מפגש עם אנשי הקהילה הימית ראש כרמל. \n16:00-19:00 –\nהפנינג קהילתי גדול הפתוח לקהל הרחב. תחנות הפעלה בנושא שמורות ימיות\, מגוון ביולוגי\, צבי ים\, פסולת ימית\, צדפים\, עמדות הסברה והעברת ידע.\nסיור מודרך: חוף סלעי \nסיור מודרך: ארכיאולוגיה
URL:https://www.medpeople.org.il/event/%d7%94%d7%a9%d7%a7%d7%94-%d7%a8%d7%a9%d7%9e%d7%99%d7%aa-%d7%a9%d7%9c-%d7%a8%d7%a9%d7%aa-%d7%a7%d7%94%d7%99%d7%9c%d7%95%d7%aa-%d7%90%d7%a0%d7%a9%d7%99-%d7%94%d7%99%d7%9d-%d7%94%d7%aa%d7%99%d7%9b%d7%95/
LOCATION:תל שקמונה\, 32°49'10.5"N 34°57'14.7"E\, חיפה\, כרמל\, Israel
ATTACH;FMTTYPE=image/jpeg:https://www.medpeople.org.il/wp-content/uploads/2018/05/unnamed.jpg
END:VEVENT
BEGIN:VEVENT
DTSTART;TZID=Asia/Jerusalem:20180608T053000
DTEND;TZID=Asia/Jerusalem:20180608T133000
DTSTAMP:20260425T193335
CREATED:20180530T175635Z
LAST-MODIFIED:20180606T180243Z
UID:2428-1528435800-1528464600@www.medpeople.org.il
SUMMARY:השקת "אנשי הים התיכון" - חוף הקשתות באשדוד
DESCRIPTION:אוהבים דולפינים? דואגים לעתיד שלנו ושל בעלי החיים הימיים? מוזמנים להצטרף אלינו לאירוע ראשון מסוגו בארץ\, שכולו מוקדש להעלאת המודעות ליונקים הימיים בישראל ולחשיבות שבהקמת שמורות ימיות לאורך חופי ארצנו. \nהאירוע מתקיים בתאריך סמלי – ביום האוקיינוסים הבינלאומי. אין זמן טוב מזה לתחילתה של מסורת\, לשימור הסביבה הימית ובעלי החיים המאכלסים אותה. \nתחילת האירוע ב"משחה הדולפין"\, שנולד ביוזמת עמותת מחמל"י – מרכז חקר\, מידע וסיוע ליונקים ימיים ושלוחתה החינוכית – מרכז הדולפין והים – ומתקיים בזכות שיתוף פעולה ביןשוונג – shvoong לעיריית אשדוד – העמוד הרשמי\, ובהובלת רשות הספורט העירונית אשדוד. \nהמשחה כולל שלושה מקצים:\n2 קילומטרים\n4 קילומטרים
URL:https://www.medpeople.org.il/event/%d7%9e%d7%a9%d7%97%d7%94-%d7%94%d7%93%d7%95%d7%9c%d7%a4%d7%99%d7%9f-%d7%91%d7%90%d7%a9%d7%93%d7%95%d7%93/
LOCATION:חוף הקשתות\, אשדוד\, Israel
ATTACH;FMTTYPE=image/jpeg:https://www.medpeople.org.il/wp-content/uploads/2018/05/33154323_1906867149400186_1168170227645546496_n.jpg
END:VEVENT
END:VCALENDAR