BEGIN:VCALENDAR
VERSION:2.0
PRODID:-//אנשי הים התיכון - ECPv6.9.0//NONSGML v1.0//EN
CALSCALE:GREGORIAN
METHOD:PUBLISH
X-ORIGINAL-URL:https://www.medpeople.org.il
X-WR-CALDESC:Events for אנשי הים התיכון
REFRESH-INTERVAL;VALUE=DURATION:PT1H
X-Robots-Tag:noindex
X-PUBLISHED-TTL:PT1H
BEGIN:VTIMEZONE
TZID:Asia/Jerusalem
BEGIN:DAYLIGHT
TZOFFSETFROM:+0200
TZOFFSETTO:+0300
TZNAME:IDT
DTSTART:20190329T000000
END:DAYLIGHT
BEGIN:STANDARD
TZOFFSETFROM:+0300
TZOFFSETTO:+0200
TZNAME:IST
DTSTART:20191026T230000
END:STANDARD
END:VTIMEZONE
BEGIN:VEVENT
DTSTART;TZID=Asia/Jerusalem:20190402T110000
DTEND;TZID=Asia/Jerusalem:20190402T123000
DTSTAMP:20260426T030505
CREATED:20190401T124544Z
LAST-MODIFIED:20190401T124544Z
UID:3182-1554202800-1554208200@www.medpeople.org.il
SUMMARY:ניקיון חוף ניצנים ביום המעשים הטובים
DESCRIPTION:אנשי הים התיכון\, ואנשי רשות הטבע והגנים מזמינים אתכם להצטרף לניקוי חוף ניצנים ביחד עם סטודנטים ממכללת סמי שמעון באשדוד.
URL:https://www.medpeople.org.il/event/%d7%a0%d7%99%d7%a7%d7%99%d7%95%d7%9f-%d7%97%d7%95%d7%a3-%d7%a0%d7%99%d7%a6%d7%a0%d7%99%d7%9d-%d7%91%d7%99%d7%95%d7%9d-%d7%94%d7%9e%d7%a2%d7%a9%d7%99%d7%9d-%d7%94%d7%98%d7%95%d7%91%d7%99%d7%9d/
LOCATION:חוף ניצנים
ATTACH;FMTTYPE=image/jpeg:https://www.medpeople.org.il/wp-content/uploads/2019/04/Facebook-Post_Easy-Resize.com_.jpg
END:VEVENT
BEGIN:VEVENT
DTSTART;TZID=Asia/Jerusalem:20190409T100000
DTEND;TZID=Asia/Jerusalem:20190409T140000
DTSTAMP:20260426T030505
CREATED:20190325T101558Z
LAST-MODIFIED:20190325T102709Z
UID:3159-1554804000-1554818400@www.medpeople.org.il
SUMMARY:יום הכריש
DESCRIPTION:בואו להכיר מקרוב את נקודת המפגש בין כרישים לאנשים. פרויקט "כרישים בזרם" מזמין אתכם לקבל הצצה לעולמם המופלא של כרישי הים התיכון . בתוכנית: פעיליות הסבר בנושא הסביבה הימית\, הקרנת סרטוני כרישים מהשטח\, הפעלות בחול\, עמדת יצירה ירוקה\, ציורי פנים ימיים ועוד. \nההשתתפות ללא תשלום.
URL:https://www.medpeople.org.il/event/%d7%99%d7%95%d7%9d-%d7%94%d7%9b%d7%a8%d7%99%d7%a9/
LOCATION:פארק נחל חדרה\, חדרה
ATTACH;FMTTYPE=image/jpeg:https://www.medpeople.org.il/wp-content/uploads/2019/03/יום-הכריש_Easy-Resize.com_.jpg
END:VEVENT
BEGIN:VEVENT
DTSTART;TZID=Asia/Jerusalem:20190412T100000
DTEND;TZID=Asia/Jerusalem:20190412T100000
DTSTAMP:20260426T030505
CREATED:20190321T071355Z
LAST-MODIFIED:20190403T132231Z
UID:3136-1555063200-1555063200@www.medpeople.org.il
SUMMARY:מפגש פעילים ראשון: קהילת ים חוף הכרמל
DESCRIPTION:
URL:https://www.medpeople.org.il/event/%d7%9e%d7%a4%d7%92%d7%a9-%d7%a4%d7%a2%d7%99%d7%9c%d7%99%d7%9d-%d7%a8%d7%90%d7%a9%d7%95%d7%9f-%d7%a7%d7%94%d7%99%d7%9c%d7%aa-%d7%99%d7%9d-%d7%97%d7%95%d7%a3-%d7%94%d7%9b%d7%a8%d7%9e%d7%9c/
ATTACH;FMTTYPE=image/jpeg:https://www.medpeople.org.il/wp-content/uploads/2019/03/הזמנה-סופית_Easy-Resize.com_.jpg
END:VEVENT
BEGIN:VEVENT
DTSTART;TZID=Asia/Jerusalem:20190412T110000
DTEND;TZID=Asia/Jerusalem:20190412T130000
DTSTAMP:20260426T030505
CREATED:20190408T064843Z
LAST-MODIFIED:20190408T065011Z
UID:3196-1555066800-1555074000@www.medpeople.org.il
SUMMARY:מביאים את הים לכיכר הבימה - מקימים שמורות טבע ימיות
DESCRIPTION:גם הקיץ הזה הים שלנו יהיה בסכנה.\nגם הקיץ הזה יוזרמו שפכים לים\, הררי אשפה יצטברו בחוף ויגיעו לגופם של בעלי החיים בים\, וקידוחי הגז והנפט ימשיכו לאיים עליו.\nבשביל לשמור על החי והצומח בים\, וכדי שבילוי קיצי בחוף לא יהפוך לזכרון רחוק\, חייבות וחייבים להמשיך לדרוש הקמתן של שמורות טבע ימיות! \nהצטרפו אלינו למיצג פתיחת עונת הרחצה ביום שישי\, ה-12.04(תאריך פתיחת עונת הרחצה הרשמי לשנה זו) בשעה 11:00 בככר הבימה ודרשו מממשלת ישראל שמורות טבע בשיעור של 20% משטח הים התיכון בישראל!
URL:https://www.medpeople.org.il/event/%d7%9e%d7%91%d7%99%d7%90%d7%99%d7%9d-%d7%90%d7%aa-%d7%94%d7%99%d7%9d-%d7%9c%d7%9b%d7%99%d7%9b%d7%a8-%d7%94%d7%91%d7%99%d7%9e%d7%94-%d7%9e%d7%a7%d7%99%d7%9e%d7%99%d7%9d-%d7%a9%d7%9e%d7%95%d7%a8%d7%95/
LOCATION:ככר הבימה תל אביב
ATTACH;FMTTYPE=image/jpeg:https://www.medpeople.org.il/wp-content/uploads/2019/04/55875366_10156142001302283_3098299290330595328_o_Easy-Resize.com_.jpg
END:VEVENT
BEGIN:VEVENT
DTSTART;TZID=Asia/Jerusalem:20190413T180000
DTEND;TZID=Asia/Jerusalem:20190413T193000
DTSTAMP:20260426T030505
CREATED:20190408T071904Z
LAST-MODIFIED:20190408T071904Z
UID:3203-1555178400-1555183800@www.medpeople.org.il
SUMMARY:הרצאה: עיצוב\, כלכלה מעגלית ומימוש יוזמות ופרוייקטים סביבתיים
DESCRIPTION:הרצאה של היזם הסביבתי יאיר אנגל על עיצוב\, כלכלה מעגלית ומימוש יוזמות ופרויקטים סביבתיים. \nבאינגה בר בהרצליה: 18:00 הרמת כוסית לכבוד החג\, 18:30 תחילת הרצאה. \n 
URL:https://www.medpeople.org.il/event/%d7%94%d7%a8%d7%a6%d7%90%d7%94-%d7%a2%d7%99%d7%a6%d7%95%d7%91-%d7%9b%d7%9c%d7%9b%d7%9c%d7%94-%d7%9e%d7%a2%d7%92%d7%9c%d7%99%d7%aa-%d7%95%d7%9e%d7%99%d7%9e%d7%95%d7%a9-%d7%99%d7%95%d7%96%d7%9e%d7%95/
ATTACH;FMTTYPE=image/jpeg:https://www.medpeople.org.il/wp-content/uploads/2019/04/ןinga_Easy-Resize.com_.jpg
END:VEVENT
BEGIN:VEVENT
DTSTART;TZID=Asia/Jerusalem:20190417T153000
DTEND;TZID=Asia/Jerusalem:20190417T180000
DTSTAMP:20260426T030505
CREATED:20190408T065404Z
LAST-MODIFIED:20190408T065404Z
UID:3200-1555515000-1555524000@www.medpeople.org.il
SUMMARY:חוף פולג בסכנה - משמרת מחאה
DESCRIPTION:חוף פולג בסכנה!\nתכנית הרסנית להקמת שמונה מגדלים וקניון הולכת להחריב את אחד החופים המרכזיים בשרון\, וכל זה בשביל להגדיל את הרווחים של יצחק תשובה\, יזם התכנית.\nהתושבים בעיר ימים בנתניה נמצאים בעיצומה של מערכה מול רשויות התכנון והטייקונים שמקדמים את תכנית הבניה הרסנית הזו. שמורת האירוסים שנמצאת על קו החוף צפויה להיפגע מהתכנית ולהיעלם. קו החוף\, שמשמש כחוף ציבורי למאות אלפי תושבים ותושבות באזור השרון\, יהפוך לחוף פרטי של רצועת המלונות.\nביום רביעי\, ה-17.04 יתקיים דיון בוועדה המקומית נתניה בשעה 16:30\, ברח' הצורן 6\, נתניה.\nהצטרפו אלינו למשמרת מחאה לפני הדיון ובדיון עצמו כדי לתמוך בתושבים ובתושבות שרוצים להציל את החוף!
URL:https://www.medpeople.org.il/event/%d7%97%d7%95%d7%a3-%d7%a4%d7%95%d7%9c%d7%92-%d7%91%d7%a1%d7%9b%d7%a0%d7%94-%d7%9e%d7%a9%d7%9e%d7%a8%d7%aa-%d7%9e%d7%97%d7%90%d7%94/
ATTACH;FMTTYPE=image/jpeg:https://www.medpeople.org.il/wp-content/uploads/2019/04/תשובה_Easy-Resize.com_.jpg
END:VEVENT
END:VCALENDAR