BEGIN:VCALENDAR
VERSION:2.0
PRODID:-//אנשי הים התיכון - ECPv6.9.0//NONSGML v1.0//EN
CALSCALE:GREGORIAN
METHOD:PUBLISH
X-WR-CALNAME:אנשי הים התיכון
X-ORIGINAL-URL:https://www.medpeople.org.il
X-WR-CALDESC:Events for אנשי הים התיכון
REFRESH-INTERVAL;VALUE=DURATION:PT1H
X-Robots-Tag:noindex
X-PUBLISHED-TTL:PT1H
BEGIN:VTIMEZONE
TZID:Asia/Jerusalem
BEGIN:DAYLIGHT
TZOFFSETFROM:+0200
TZOFFSETTO:+0300
TZNAME:IDT
DTSTART:20190329T000000
END:DAYLIGHT
BEGIN:STANDARD
TZOFFSETFROM:+0300
TZOFFSETTO:+0200
TZNAME:IST
DTSTART:20191026T230000
END:STANDARD
END:VTIMEZONE
BEGIN:VEVENT
DTSTART;VALUE=DATE:20190906
DTEND;VALUE=DATE:20190907
DTSTAMP:20260425T223142
CREATED:20190827T064646Z
LAST-MODIFIED:20190827T064646Z
UID:3532-1567728000-1567814399@www.medpeople.org.il
SUMMARY:יומיים של מסיבת ניקיון חוף אשדוד
DESCRIPTION:האירוע מתקיים במשך יומיים החל מה-6.9.19 בשעה 09:00 בבוקר ועד 7.9.19 בשעה 23:00 \nבבוקר יום שישי ולאורך כל היום \,אחכה לכם בחוף ויחד נעשה מהפך למקום\nהמדהים אך המטונף.\nבוקר -בוהוריים-צהריים-אחר הצהריים – אנחנו בחוף כל היום אז פשוט בואו (:\nאת האשפה וכל הלא טבעי לחוף ולדיונות החוליות \,נאסוף ונמחזר.\nנאזין לתכנים מהפכניים בתחום האקולוגיה ונרחיב אופקים.\nנשביח את ידיעותנו על החיים הימיים וגם נבין אותם יותר.\nאלכימאות -נעשה סדנאות יצירה ואומנות ע״י הפיכת ״זבל״ לזהב.\n🌾🍄🌍🐬🐟\nמוזמנים להנות איתנו משקיעה קייצית יפה בליווי מוזיקה טובה.\nארוחת ערב של פויקה טבעוני טעיםםם\nג׳אם כלי נגינה סביב המדורה.\n*בלילה לא נעשה שימוש בהגברה או תאורה חזקה כי כולנו אורחים של הים\nבמקום מתרחשות הטלות של צבות ים. לא נפחיד ולא נבלבלן\n\,ניהיה אורחים טובים.\n🌾🍄🌍🐬🐟\nשבת בבוקר יום יפייפה \,אפטר מוזיקלי אלקטרוני לכל המתנדבים הנפלאים\nוחברי קהילת מיקופוביה!\nנצא למסע מוזיקלי שינוע בין דאון-טמפו טורקי \,בזרימה לתוך ביט של האוס\nוהתגלגלות אל עבר הטכנו.\n🌾🍄🌍🐬🐟\nהרעיון של הסופ״ש הוא ליצור שילוב בין התנדבות לעשייה ירוקה למען הטבע – מפגש בין אנשים טובים מכל הארץ וקינוח של אפטר ביום שאחרי בצורת מסיבת\nחוף מודעת לעצמה וכיפית בטירוף\nכל המתנדבים יעזרו לנו לנקות את החוף \,ישמעו ויעברו סדנאות במהלך היום.\nהצטרפו לארוחת הערב המסורתית שלנו -פויקה.\nיקבלו צמיד מתנדב ניקיון שיקנה להם את הכרטיס לאפטר המוזיקלי בשבת.\nמומלץ לכל משתתף בסופ״ש להצטייד ב:\nכובע🐟בקבוק מים🐟כוס אישית🐟קערה וכף / מזלג \nקצת עלי🍄:\nמיקופוביה היא קהילה של אמנים וחולמים\, המעודדת יצירה מקורית דרך תרבות (אירועים\, מוסיקה\, אומנות\, סדנאות ותוכן) ומקדמת ערכים של חברה ואקולוגיה.\nלאחרונה הקמנו ענף קהילתי (שבקרוב יהפוך לעמותה) שכל כולו מוקדש לקידום ערכים סביבתיים ולחיבור בין בני-אדם לטבע. תכירו את ECO – MYCO \nעוד מידע על מיקו באתר🍄:\nhttps://mycophobia.co.il/\nעמוד הקהילה בפייסבוק🍄:\nhttps://www.facebook.com/Mycophobiago/\nוגם קצת אינסטגרם שיהיה🍄:\nhttps://www.instagram.com/mycophobiia/ \n🌾🍄🌍🐬🐟אז כל מי שמגיע \,נא להרשם בלינק הזה: 🌾🍄🌍🐬🐟https://docs.google.com/forms/d/e/1FAIpQLScBFZcFQLqS48axzVXJSk8r_JzoH7_ZMGNMgIoCh9eh3Vf0jg/viewform
URL:https://www.medpeople.org.il/event/%d7%99%d7%95%d7%9e%d7%99%d7%99%d7%9d-%d7%a9%d7%9c-%d7%9e%d7%a1%d7%99%d7%91%d7%aa-%d7%a0%d7%99%d7%a7%d7%99%d7%95%d7%9f-%d7%97%d7%95%d7%a3-%d7%90%d7%a9%d7%93%d7%95%d7%93/
ATTACH;FMTTYPE=image/jpeg:https://www.medpeople.org.il/wp-content/uploads/2019/08/WhatsApp-Image-2019-08-27-at-09.30.13_Easy-Resize.com_.jpg
END:VEVENT
BEGIN:VEVENT
DTSTART;TZID=Asia/Jerusalem:20190916T204500
DTEND;TZID=Asia/Jerusalem:20190916T220000
DTSTAMP:20260425T223142
CREATED:20190905T071244Z
LAST-MODIFIED:20190905T071244Z
UID:3548-1568666700-1568671200@www.medpeople.org.il
SUMMARY:רבולושן: סרט + הרצאה
DESCRIPTION:
URL:https://www.medpeople.org.il/event/%d7%a8%d7%91%d7%95%d7%9c%d7%95%d7%a9%d7%9f-%d7%a1%d7%a8%d7%98-%d7%94%d7%a8%d7%a6%d7%90%d7%94/
LOCATION:נחשולים
ATTACH;FMTTYPE=image/jpeg:https://www.medpeople.org.il/wp-content/uploads/2019/09/WhatsApp-Image-2019-09-03-at-17.52.17-1_Easy-Resize.com_.jpg
END:VEVENT
BEGIN:VEVENT
DTSTART;TZID=Asia/Jerusalem:20190920T070000
DTEND;TZID=Asia/Jerusalem:20190920T140000
DTSTAMP:20260425T223142
CREATED:20190825T054628Z
LAST-MODIFIED:20190825T054628Z
UID:3527-1568962800-1568988000@www.medpeople.org.il
SUMMARY:צלילת הניקיון הגדולה בישראל
DESCRIPTION:ביום ניקיון החופים הבינלאומי 2019 יש לכם הזדמנות לעשות משהו טוב למען הים\,\nבואו לקחת חלק בצלילת הניקיון הגדולה ביותר בארץ! \nבקיץ שעבר צוללי משמר הים מצבור פסולת גדול מול החוף של כושי במכמורת. \nהשנה שמנו לעצמנו מטרה: לחסל את מצבור הפסולת הגדול במכמורת! לשם כך אנו צריכים את ההתגייסות של הרבה צוללים איכפתיים כמוכם! \nהצלילה מתוכננת ל 20 לספטמבר 2019\nמשעות ההבוקר המוקדמות עד הצהריים \nכדי שנוכל להיערך כראוי אנא מלאו את הטופס הבא: \nhttps://forms.gle/X2qpD57Gw6J6ednw9 \n(הטופס אינו מהווה הרשמה\, ייצרו איתכם קשר לתאם ולרשום) \nפרטים נוספים בהמשך! \n\n 
URL:https://www.medpeople.org.il/event/%d7%a6%d7%9c%d7%99%d7%9c%d7%aa-%d7%94%d7%a0%d7%99%d7%a7%d7%99%d7%95%d7%9f-%d7%94%d7%92%d7%93%d7%95%d7%9c%d7%94-%d7%91%d7%99%d7%a9%d7%a8%d7%90%d7%9c/
LOCATION:החוף של כושי מכמורת
ATTACH;FMTTYPE=image/jpeg:https://www.medpeople.org.il/wp-content/uploads/2019/08/68770224_2339439129627610_1410679989736570880_n_Easy-Resize.com_.jpg
END:VEVENT
BEGIN:VEVENT
DTSTART;TZID=Asia/Jerusalem:20190920T080000
DTEND;TZID=Asia/Jerusalem:20190921T000000
DTSTAMP:20260425T223142
CREATED:20190910T105615Z
LAST-MODIFIED:20190910T105615Z
UID:3564-1568966400-1569024000@www.medpeople.org.il
SUMMARY:תל אביב יפו חוגגת ים  SAIL TEL AVIV
DESCRIPTION:פסטיבל הים של תל אביב-יפו – ביוזמת חברת "אתרים" – חוזר לרצועת החוף בפעם הרביעית!\nבואו לחגוג איתנו ים בשלל אירועי ספורט\, שיט וקיימות: סאפ יוגה בנמל תל אביב\, הרצאות ומפגשים על המזח במרינה תל אביב\, סיורים\, הופעות\, פעילויות לילדים\, תחרויות\, פסטיבל האוכל של "הארץ" ועוד. \nבמסגרת הפסטיבל\, נציין את היום הבינלאומי לניקיון החופים בפעילות בחוף גבעת עלייה\, בשיתוף האיחוד האירופי\, עיריית תל אביב- יפו\, חברת "אתרים"\, עמותות אקואושן ו-Plastic Free Israel. \nשישי ושבת 21-20 בספטמבר\,\nבואו לחופים! \nכל האירועים והפרטים באתר: www.sailtlv.co.il
URL:https://www.medpeople.org.il/event/%d7%aa%d7%9c-%d7%90%d7%91%d7%99%d7%91-%d7%99%d7%a4%d7%95-%d7%97%d7%95%d7%92%d7%92%d7%aa-%d7%99%d7%9d-sail-tel-aviv/
ATTACH;FMTTYPE=image/jpeg:https://www.medpeople.org.il/wp-content/uploads/2019/09/SAIL-TEL-AVIV-YAFO-700x467_Easy-Resize.com_.jpg
END:VEVENT
BEGIN:VEVENT
DTSTART;TZID=Asia/Jerusalem:20190920T100000
DTEND;TZID=Asia/Jerusalem:20190920T120000
DTSTAMP:20260425T223142
CREATED:20190914T071052Z
LAST-MODIFIED:20190914T080853Z
UID:3575-1568973600-1568980800@www.medpeople.org.il
SUMMARY:גיטרנים בחוף ניצנים - מדע אזרחי
DESCRIPTION:אל חוף ניצנים יגיעו מדענים מתחנת מוריס קאהן לחקר הים של אוניברסיטת חיפה שחוקרים את הגיטרנים ויקחו אותנו לסיור בחוף לכיוון שמורת אבטח (כחצי ק"מ הליכה) ומשם נצא לפעילות סקירה ומחקר מעמיקה ומהנה. \nהתחלת הפעילות תחל בשעה 10 בצמוד לסוכת המציל בחוף ניצנים\, משם נתקדם רגלית כחצי ק"מ דרומה אל שמורה ימית אבטח. \nמי שמאחר או מסתבך מוזמן לפנות לשני רכזת קהילת אנשי הים התיכון בדרום- 0508335796 \nשמורת אבטח היא שמורה ימית הנמצאת מול חולות ניצנים\, ומגנה על יצורי החיים הימיים המתגוררים במצע החולי\, כמו הגיטרנים.\nשמורת אבטח היא אחת השמורות הימיות המוצעות כדי להגן על הים שלנו ולשמור עליו נקי וצלול. \nרישום לאירוע
URL:https://www.medpeople.org.il/event/%d7%92%d7%99%d7%98%d7%a8%d7%a0%d7%99%d7%9d-%d7%91%d7%97%d7%95%d7%a3-%d7%a0%d7%99%d7%a6%d7%a0%d7%99%d7%9d-2/
ATTACH;FMTTYPE=image/jpeg:https://www.medpeople.org.il/wp-content/uploads/2019/09/WhatsApp-Image-2019-09-14-at-10.56.40-new.jpeg
END:VEVENT
BEGIN:VEVENT
DTSTART;TZID=Asia/Jerusalem:20190921T130000
DTEND;TZID=Asia/Jerusalem:20190921T160000
DTSTAMP:20260425T223142
CREATED:20190910T104246Z
LAST-MODIFIED:20190910T104246Z
UID:3561-1569070800-1569081600@www.medpeople.org.il
SUMMARY:יום ניקיון בינלאומי בחיפה
DESCRIPTION:
URL:https://www.medpeople.org.il/event/%d7%99%d7%95%d7%9d-%d7%a0%d7%99%d7%a7%d7%99%d7%95%d7%9f-%d7%91%d7%99%d7%a0%d7%9c%d7%90%d7%95%d7%9e%d7%99-%d7%91%d7%97%d7%99%d7%a4%d7%94/
ATTACH;FMTTYPE=image/jpeg:https://www.medpeople.org.il/wp-content/uploads/2019/09/bbb2bd6a-aeb9-4206-b982-95e18bab25af21.9_Easy-Resize.com_.jpg
END:VEVENT
BEGIN:VEVENT
DTSTART;TZID=Asia/Jerusalem:20190926T190000
DTEND;TZID=Asia/Jerusalem:20190926T210000
DTSTAMP:20260425T223142
CREATED:20190922T090218Z
LAST-MODIFIED:20190922T090326Z
UID:3595-1569524400-1569531600@www.medpeople.org.il
SUMMARY:שוניות הסלע הים תיכוניות - הרצאה אסף אריאל
DESCRIPTION:שוניות הסלע הים תיכוניות – עולם מופלא ולא מוכר של חי וצומח במעמקים \nמעטים מכירים את שוניות הסלע השקועות מתחת למי הים התיכון\, בהן מגוון עשיר תוסס וססגוני של בעלי חיים ימיים\, הנסתר מהעין ומוכר רק לציבור קטן של חובבי ים מושבעים ולאלו שפרנסתם בים. \nמבחינת מורכבותם וחשיבותם האקולוגית משווים שוניות אלא ליערות המנגרובים\, לשוניות האלמוגים\, לסוואנות שבאפריקה וליערות העד בברזיל- עושר העומד בניגוד לתדמית של הים התיכון כבית גידול עכור ודל בבעלי חיים. \nבואו לצלול עמנו לעומק הנושא ולשמוע מפי ד"ר אסף אריאל\, המנהל המדעי של עמותת אקואושן\, על מגוון המינים בטבלאות הגידוד ושוניות הסלע השקועות\,על מגוון האיומים החלים עליהם ועל המאמצים הקיימים לניטור ושימור עולם נסתר זה. \nמיועד לקהל הרחב ולמתנדבים פוטנציאליים לניטור שמורה ימית  "ים פולג"\n \nשושנה פיצה בר\, רחוב האשל 5\, שושנת העמקים  \n* מומלץ להביא ביגוד חם
URL:https://www.medpeople.org.il/event/%d7%a9%d7%95%d7%a0%d7%99%d7%95%d7%aa-%d7%94%d7%a1%d7%9c%d7%a2-%d7%94%d7%99%d7%9d-%d7%94%d7%aa%d7%99%d7%9b%d7%95%d7%a0%d7%99%d7%95%d7%aa-%d7%94%d7%a8%d7%a6%d7%90%d7%94-%d7%90%d7%a1%d7%a3-%d7%90%d7%a8/
ATTACH;FMTTYPE=image/jpeg:https://www.medpeople.org.il/wp-content/uploads/2019/09/שקופית1.jpg
END:VEVENT
BEGIN:VEVENT
DTSTART;TZID=Asia/Jerusalem:20190927T103000
DTEND;TZID=Asia/Jerusalem:20190927T140000
DTSTAMP:20260425T223142
CREATED:20190910T105932Z
LAST-MODIFIED:20190910T105932Z
UID:3567-1569580200-1569592800@www.medpeople.org.il
SUMMARY:אירוע מחאה בינלאומי - מצב חירום אקלימי
DESCRIPTION:
URL:https://www.medpeople.org.il/event/%d7%90%d7%99%d7%a8%d7%95%d7%a2-%d7%9e%d7%97%d7%90%d7%94-%d7%91%d7%99%d7%a0%d7%9c%d7%90%d7%95%d7%9e%d7%99-%d7%9e%d7%a6%d7%91-%d7%97%d7%99%d7%a8%d7%95%d7%9d-%d7%90%d7%a7%d7%9c%d7%99%d7%9e%d7%99/
ATTACH;FMTTYPE=image/jpeg:https://www.medpeople.org.il/wp-content/uploads/2019/09/77fd36c0-3bde-490d-a599-f19a06d3f434_Easy-Resize.com_.jpg
END:VEVENT
END:VCALENDAR