BEGIN:VCALENDAR
VERSION:2.0
PRODID:-//אנשי הים התיכון - ECPv6.9.0//NONSGML v1.0//EN
CALSCALE:GREGORIAN
METHOD:PUBLISH
X-WR-CALNAME:אנשי הים התיכון
X-ORIGINAL-URL:https://www.medpeople.org.il
X-WR-CALDESC:Events for אנשי הים התיכון
REFRESH-INTERVAL;VALUE=DURATION:PT1H
X-Robots-Tag:noindex
X-PUBLISHED-TTL:PT1H
BEGIN:VTIMEZONE
TZID:Asia/Jerusalem
BEGIN:DAYLIGHT
TZOFFSETFROM:+0200
TZOFFSETTO:+0300
TZNAME:IDT
DTSTART:20200327T000000
END:DAYLIGHT
BEGIN:STANDARD
TZOFFSETFROM:+0300
TZOFFSETTO:+0200
TZNAME:IST
DTSTART:20201024T230000
END:STANDARD
END:VTIMEZONE
BEGIN:VEVENT
DTSTART;TZID=Asia/Jerusalem:20200203T183000
DTEND;TZID=Asia/Jerusalem:20200203T200000
DTSTAMP:20260426T060059
CREATED:20200201T170505Z
LAST-MODIFIED:20200201T170556Z
UID:3919-1580754600-1580760000@www.medpeople.org.il
SUMMARY:על משבר האקלים והים\, ועל שימור צבי ים
DESCRIPTION:מיקל רפאל – רכז אנשי הים התיכון הארצי ובין מובילי תנועת מרד ההכחדה(משבר האקלים)\, בהרצאה מרתקת על משבר האקלים- הקשר של זה לים התיכון שלנו ופרויקט שמורות ימיות בים התיכון. \n\n רחל עברון – רכזת חינוך וקהילה של רשות הטבע והגנים באזור מרחב החוף בהרצאה על פרויקט שימור צבי ים ואיך נוכל להשתלב בו ובתחומים נוספים שרשות הטבע והגנים פועלת בו באזורנו. \n*מי שרוצה לבוא כאורח למפגש הזה- מוזמן לשלוח הודעה בפרטי ואשלח מיקום ושעה*. \nלקבלת הזמנה – שלחו הודעה ל שני – רכזת אנשי הים התיכון בדרום  0508335796
URL:https://www.medpeople.org.il/event/%d7%a2%d7%9c-%d7%9e%d7%a9%d7%91%d7%a8-%d7%94%d7%90%d7%a7%d7%9c%d7%99%d7%9d-%d7%95%d7%94%d7%99%d7%9d-%d7%95%d7%a2%d7%9c-%d7%a9%d7%99%d7%9e%d7%95%d7%a8-%d7%a6%d7%91%d7%99-%d7%99%d7%9d/
ATTACH;FMTTYPE=image/jpeg:https://www.medpeople.org.il/wp-content/uploads/2019/03/232A5759_Easy-Resize.com_.jpg
END:VEVENT
BEGIN:VEVENT
DTSTART;TZID=Asia/Jerusalem:20200217T183000
DTEND;TZID=Asia/Jerusalem:20200217T210000
DTSTAMP:20260426T060059
CREATED:20200205T134441Z
LAST-MODIFIED:20200209T073133Z
UID:3939-1581964200-1581973200@www.medpeople.org.il
SUMMARY:"ים של פלסטיק" - בית ספר שדה שקמים
DESCRIPTION:הרצאות ושיח בנושא הפסולת בסביבה הימית: הרצאה של ד"ר נועם ואן דר האל- מומחה למיקרופלסטיק.\nמהו המיקרופלסטיק שנמצא לנו בים\, באוכל\, במי השתיה ובגופנו.  מה קורה עם כל הפסולת בחופים שלנו ומה אנחנו יכולים לעשות כדי לעזור לים שלנו וליצורים החיים בו. \nמיקום: בית ספר שדה שיקמים\, ניצן (בין אשדוד לאשקלון).אין צורך להירשם. \nלפרטים נוספים והכוונה- שני\, רכזת הקהילה. 050-8335796 \n  \n 
URL:https://www.medpeople.org.il/event/%d7%94%d7%a8%d7%a6%d7%90%d7%95%d7%aa-%d7%95%d7%a9%d7%99%d7%97-%d7%91%d7%a0%d7%95%d7%a9%d7%90-%d7%94%d7%a4%d7%a1%d7%95%d7%9c%d7%aa-%d7%91%d7%a1%d7%91%d7%99%d7%91%d7%94-%d7%94%d7%99%d7%9e%d7%99%d7%aa/
ATTACH;FMTTYPE=image/jpeg:https://www.medpeople.org.il/wp-content/uploads/2020/02/WhatsApp-Image-2020-02-09-at-09.12.30_Easy-Resize.com_.jpg
END:VEVENT
BEGIN:VEVENT
DTSTART;TZID=Asia/Jerusalem:20200225T190000
DTEND;TZID=Asia/Jerusalem:20200225T213000
DTSTAMP:20260426T060059
CREATED:20200204T162416Z
LAST-MODIFIED:20200204T162732Z
UID:3924-1582657200-1582666200@www.medpeople.org.il
SUMMARY:ים על הבר - ערב של Karaoke Talk
DESCRIPTION:מגמה ירוקה\, צלול וקואליציית אנשי הים התיכון מזמינות אתכם ואתכן לערב שכולו אהבה לים. \nבואו לשתות איתנו בירה\, לשמוע על האתגרים העומדים בפני הים והיצורים החיים בו\,ועל מה שכולנו יכולים יכולות לעשות כדי להציל את הים.\nבמהלך הערב יתקיים Karaoke Talk\, שבמהלכו תוכלו לספר לקהל מה לדעתכם נכון לעשות כדי לשפר את מצב הים. \nבגונס בר\, חדרה.\nיש 1+1 על האלכוהול! \nפרטים נוספים ודוברים יפורסמו בהמשך.
URL:https://www.medpeople.org.il/event/%d7%99%d7%9d-%d7%a2%d7%9c-%d7%94%d7%91%d7%a8-%d7%a2%d7%a8%d7%91-%d7%a9%d7%9c-karaoke-talk/
ATTACH;FMTTYPE=image/jpeg:https://www.medpeople.org.il/wp-content/uploads/2020/02/ים-על-הבר_Easy-Resize.com_.jpg
END:VEVENT
END:VCALENDAR