BEGIN:VCALENDAR
VERSION:2.0
PRODID:-//אנשי הים התיכון - ECPv6.9.0//NONSGML v1.0//EN
CALSCALE:GREGORIAN
METHOD:PUBLISH
X-ORIGINAL-URL:https://www.medpeople.org.il
X-WR-CALDESC:Events for אנשי הים התיכון
REFRESH-INTERVAL;VALUE=DURATION:PT1H
X-Robots-Tag:noindex
X-PUBLISHED-TTL:PT1H
BEGIN:VTIMEZONE
TZID:Asia/Jerusalem
BEGIN:DAYLIGHT
TZOFFSETFROM:+0200
TZOFFSETTO:+0300
TZNAME:IDT
DTSTART:20200327T000000
END:DAYLIGHT
BEGIN:STANDARD
TZOFFSETFROM:+0300
TZOFFSETTO:+0200
TZNAME:IST
DTSTART:20201024T230000
END:STANDARD
END:VTIMEZONE
BEGIN:VEVENT
DTSTART;TZID=Asia/Jerusalem:20200302T100000
DTEND;TZID=Asia/Jerusalem:20200302T140000
DTSTAMP:20260426T072101
CREATED:20200213T091149Z
LAST-MODIFIED:20200213T091149Z
UID:3967-1583143200-1583157600@www.medpeople.org.il
SUMMARY:חגיגת יום הכריש - פארק נחל חדרה
DESCRIPTION:מזמינים אתכם לקבל הצצה לעולמם המופלא של כרישי הים התיכון בחגיגת יום הכריש ב פארק נחל חדרה. פסטיבל שלם לכבוד היצורים המרתקים האלה הכולל דוכנים\, הפעלות ואפילו תצפית בשידור חי מרחפן! \nפרטים נוספים בהמשך… \n 
URL:https://www.medpeople.org.il/event/%d7%97%d7%92%d7%99%d7%92%d7%aa-%d7%99%d7%95%d7%9d-%d7%94%d7%9b%d7%a8%d7%99%d7%a9-%d7%a4%d7%90%d7%a8%d7%a7-%d7%a0%d7%97%d7%9c-%d7%97%d7%93%d7%a8%d7%94/
ATTACH;FMTTYPE=image/jpeg:https://www.medpeople.org.il/wp-content/uploads/2020/02/יום-הכריש_Easy-Resize.com_.jpg
END:VEVENT
BEGIN:VEVENT
DTSTART;TZID=Asia/Jerusalem:20200305T183000
DTEND;TZID=Asia/Jerusalem:20200305T203000
DTSTAMP:20260426T072101
CREATED:20200226T074506Z
LAST-MODIFIED:20200226T074506Z
UID:3984-1583433000-1583440200@www.medpeople.org.il
SUMMARY:מפגש הכרות לחברים חדשים - קהילת דרום
DESCRIPTION:מעניין אותכם לשמוע מה קורה בים התיכון שלנו? מי זה אנשי הים התיכון ?\nרוצים לעזור לשנות את מצב החופים שלנו פה באזור שבין אשדוד לזיקים ?\n\n\nהמפגש מתקיים במושב אורות. מי שמגיע ליצור קשר עם שני טובול  בטלפון 050-8335796\n 
URL:https://www.medpeople.org.il/event/%d7%9e%d7%a4%d7%92%d7%a9-%d7%94%d7%9b%d7%a8%d7%95%d7%aa-%d7%9c%d7%97%d7%91%d7%a8%d7%99%d7%9d-%d7%97%d7%93%d7%a9%d7%99%d7%9d-%d7%a7%d7%94%d7%99%d7%9c%d7%aa-%d7%93%d7%a8%d7%95%d7%9d/
ATTACH;FMTTYPE=image/jpeg:https://www.medpeople.org.il/wp-content/uploads/2020/02/87460420_10221815228867534_5844723201568931840_o.jpg
END:VEVENT
BEGIN:VEVENT
DTSTART;TZID=Asia/Jerusalem:20200308T173000
DTEND;TZID=Asia/Jerusalem:20200308T190000
DTSTAMP:20260426T072101
CREATED:20200219T164717Z
LAST-MODIFIED:20200219T164717Z
UID:3974-1583688600-1583694000@www.medpeople.org.il
SUMMARY:"חוף מעשה במחשבה תחילה"
DESCRIPTION:שיח פתוח בנושא המרחב החופי מועצה אזורית חוף כרמל. \nמקום המפגש: מלון חוף נחשולים *לרשום בוייז חנייה מלון חוף נחשולים\nפרטים ליצירת קשר: נגה לבנברג 054-6522208 noga@hcarmel.org.il \n*ההשתתפות הינה ללא עלות אך מותנת בהרשמה מראש*\n* קיום הערב מותנה במינימום משתתפים*
URL:https://www.medpeople.org.il/event/%d7%97%d7%95%d7%a3-%d7%9e%d7%a2%d7%a9%d7%94-%d7%91%d7%9e%d7%97%d7%a9%d7%91%d7%94-%d7%aa%d7%97%d7%99%d7%9c%d7%94/
ATTACH;FMTTYPE=image/jpeg:https://www.medpeople.org.il/wp-content/uploads/2020/02/WhatsApp-Image-2020-02-19-at-17.01.06-1.jpeg
END:VEVENT
BEGIN:VEVENT
DTSTART;TZID=Asia/Jerusalem:20200325T190000
DTEND;TZID=Asia/Jerusalem:20200325T190000
DTSTAMP:20260426T072101
CREATED:20200205T135406Z
LAST-MODIFIED:20200303T103504Z
UID:3944-1585162800-1585162800@www.medpeople.org.il
SUMMARY:הים התיכון: משדות-ים ועד ג'יברלטר. מרצה ד"ר רמי קליין
DESCRIPTION:הים התיכון משתרע לאורך כמעט 4000 קילומטרים מחופי ארצנו במזרח ועד למצרי ג'יברלטר במערב.\nהאקלים האזורי והתנאים הימיים משתנים במעבר ממזרח הים התיכון למערבו והם מכתיבים את מגוון\nבעלי החיים הימיים החיים בו.\nבמסע תת-ימי צבעוני וקסום דרך חופי הארץ\, קרואטיה\, סיציליה\, מלטה\, חופי ספרד וג'ברלטר נכיר את\nהחיים התת-ימיים בים התיכון ונופתע מהמגוון הביולוגי הגבוה ומהצבעוניות הרבה המאפיינת את מערב\nהים התיכון. כמו כן\, נתייחס גם להשפעת האדם על סביבה ימית זו\, לחדירת מינים פולשים\, לדיג יתר\nולגורמי זיהום נוספים.\nמרצה: ד"ר  רמי קליין\, ביולוג ימי וצלם תת-ימי הפקולטה למדעי הים\, מכמורת\, המרכז האקדמי\nרופין \nמיקום: הגג- בית הצעירים.  בית הצעירים \, רחוב יהושע שטמפפר 4.נתניה \n\nההשתתפות מותנה בהרשמה מראש בקישור הבא: https://www.teva.org.il/?CategoryID=11829&ArticleID=27039&dbsAuthToken=\nהכניסה ללא עלות\nיש לקחת בחשבון כי אין חנייה במרכז עצמו. יש להשתמש בתחבורה ציבורית או למצוא חנייה ברחובות סמוכים.\n\nעדכונים ומידע נוסף: עינת צוקרמן טל במייל : einat@ecoocean.com \n  \n 
URL:https://www.medpeople.org.il/event/%d7%94%d7%99%d7%9d-%d7%94%d7%aa%d7%99%d7%9b%d7%95%d7%9f-%d7%9e%d7%a9%d7%93%d7%95%d7%aa-%d7%99%d7%9d-%d7%95%d7%a2%d7%93-%d7%92%d7%99%d7%91%d7%a8%d7%9c%d7%98%d7%a8-%d7%9e%d7%a8%d7%a6%d7%94-%d7%93/
ATTACH;FMTTYPE=image/jpeg:https://www.medpeople.org.il/wp-content/uploads/2020/02/פרסום-סופי-רמי-קליין.jpg
END:VEVENT
BEGIN:VEVENT
DTSTART;TZID=Asia/Jerusalem:20200327T093000
DTEND;TZID=Asia/Jerusalem:20200327T140000
DTSTAMP:20260426T072101
CREATED:20200112T165321Z
LAST-MODIFIED:20200114T085210Z
UID:3844-1585301400-1585317600@www.medpeople.org.il
SUMMARY:מצעד האקלים 2020
DESCRIPTION:זה המאבק הפוליטי והחברתי המשמעותי ביותר של המאה הזו.\nב27.3 נצעד למען החיים עצמם בישראל\, במזרח התיכון ובכלל.ביום שישי ה- 27.3.20 יתקיים מצעד האקלים. בשנה שעברה הגיעו למצעד כ-7\,000 צועדים וצועדות מכל רחבי הארץ ומרקעים שונים ומגוונים. השנה\, שנת 2020\, אנחנו מצפות לראות לפחות 20 אלף אזרחים ואזרחיות שיצעדו ביחד למען העתיד של כולנו. כדי שזה יקרה אנחנו צריכים אתכן ואתכם איתנו! \nאנחנו במצב חירום אקלימי ובעיצומו של משבר אקלים שמסכן את כולנו. ללא יוצא מן הכלל. יש על כך קונצנזוס בקהילה המדעית. \nההערכות המדעיות מזהירות שאם לא נגמל מדלקים מזהמים ונפסיק לחלוטין את פליטות גזי החממה עד 2050 המזרח התיכון יהפוך לאזור קשה – עד בלתי אפשרי – למחייה; משבר מים קשה יפקוד את כל החיים כאן\, גלי חום יהפכו לחלק בלתי נפרד בחיים שלנו והטמפרטורה הממוצעת בקיץ תעמוד על 50 מעלות צלזיוס. \nבשנה האחרונה משבר האקלים הפך להיות נושא מדובר יותר ויותר. התנועה האזרחית הפועלת בתחום האקלים ברחבי העולם גדלה\, התחזקה\, התעצמה וחוותה המון הצלחות. תנועות מחאה חדשות קמו\, נוצרו שיתופי פעולה בינלאומיים\, עשרות מיליונים יצאו לרחובות\, מדינות בעולם הכריזו על מצב חירום אקלימי\, ערים מרכזיות מקדמות תכניות לאיפוס פליטות ויותר ויותר מוסדות מסיטים את ההשקעות שלהם מדלקים מזהמים.\nהשינוי כבר כאן\, והגיע הזמן שישראל תצטרף למהפכה. \nב27.3.20 נצעד יחד כדי לדרוש מכל ממשלה שתקום להכריז על מצב חירום אקלימי ולפעול באופן מיידי לטובת החיים שלנו\, הבריאות שלנו\, העתיד שלנו. \nאנחנו נמצאות בנקודת זמן קריטית בהיסטוריה האנושית. עת זו מחייבת אותנו להתעורר ולפעול. אנחנו חייבות להיפטר מהדלקים המזהמים ולקדם מעבר מהיר וצודק לאנרגיות מתחדשות.\nזה אפשרי. זה לא חלום רחוק. ואנחנו לא לבד. \nתנועת האקלים העולמית היא אחת מהתנועות הגדולות בהיסטוריה. מיליוני אזרחים ואזרחיות ברחבי העולם יוצאים יום יום לרחובות עירם בקריאה ברורה לממשלות העולם – עד עכשיו דיברתם\, עכשיו תפעלו. כוחם של האזרחים והאזרחיות הוא מעל לכל אדישות\, שאננות ופחדנות של מקבלי ההחלטות. זה או אנחנו או כלום. \nהצטרפו אלינו וביחד נעצור את משבר האקלים. \nמיקום\, לו"ז ופרטים נוספים יפורסמו בהמשך.
URL:https://www.medpeople.org.il/event/%d7%9e%d7%a6%d7%a2%d7%93-%d7%94%d7%90%d7%a7%d7%9c%d7%99%d7%9d-2020/
ATTACH;FMTTYPE=image/jpeg:https://www.medpeople.org.il/wp-content/uploads/2020/01/מצעד-האקלים.jpg
END:VEVENT
END:VCALENDAR